BEGIN:VCALENDAR
VERSION:2.0
PRODID:-//Village of Barrington Hills - ECPv6.15.15//NONSGML v1.0//EN
CALSCALE:GREGORIAN
METHOD:PUBLISH
X-WR-CALNAME:Village of Barrington Hills
X-ORIGINAL-URL:https://barringtonhills-il.gov
X-WR-CALDESC:Events for Village of Barrington Hills
REFRESH-INTERVAL;VALUE=DURATION:PT1H
X-Robots-Tag:noindex
X-PUBLISHED-TTL:PT1H
BEGIN:VTIMEZONE
TZID:America/Chicago
BEGIN:DAYLIGHT
TZOFFSETFROM:-0600
TZOFFSETTO:-0500
TZNAME:CDT
DTSTART:20250309T080000
END:DAYLIGHT
BEGIN:STANDARD
TZOFFSETFROM:-0500
TZOFFSETTO:-0600
TZNAME:CST
DTSTART:20251102T070000
END:STANDARD
BEGIN:DAYLIGHT
TZOFFSETFROM:-0600
TZOFFSETTO:-0500
TZNAME:CDT
DTSTART:20260308T080000
END:DAYLIGHT
BEGIN:STANDARD
TZOFFSETFROM:-0500
TZOFFSETTO:-0600
TZNAME:CST
DTSTART:20261101T070000
END:STANDARD
BEGIN:DAYLIGHT
TZOFFSETFROM:-0600
TZOFFSETTO:-0500
TZNAME:CDT
DTSTART:20270314T080000
END:DAYLIGHT
BEGIN:STANDARD
TZOFFSETFROM:-0500
TZOFFSETTO:-0600
TZNAME:CST
DTSTART:20271107T070000
END:STANDARD
END:VTIMEZONE
BEGIN:VEVENT
DTSTART;TZID=America/Chicago:20260512T110000
DTEND;TZID=America/Chicago:20260512T110000
DTSTAMP:20260425T082815
CREATED:20260108T174538Z
LAST-MODIFIED:20260108T174538Z
UID:20106-1778583600-1778583600@barringtonhills-il.gov
SUMMARY:Adjudication Hearing
DESCRIPTION:Adjucation Hearings are held in the MacArthur Board Room\, which is accessible using the north entry (facing Algonquin Road). 
URL:https://barringtonhills-il.gov/event/adjudication-hearing-2/2026-05-12/
LOCATION:Village Hall\, 112 Algonquin Rd\, Barrington Hills\, IL\, 60010-5199
CATEGORIES:Adjudication Hearing
GEO:42.113822;-88.1818499
X-APPLE-STRUCTURED-LOCATION;VALUE=URI;X-ADDRESS=Village Hall 112 Algonquin Rd Barrington Hills IL 60010-5199;X-APPLE-RADIUS=500;X-TITLE=112 Algonquin Rd:geo:-88.1818499,42.113822
END:VEVENT
BEGIN:VEVENT
DTSTART;TZID=America/Chicago:20260609T110000
DTEND;TZID=America/Chicago:20260609T110000
DTSTAMP:20260425T082815
CREATED:20260108T174538Z
LAST-MODIFIED:20260108T174538Z
UID:20107-1781002800-1781002800@barringtonhills-il.gov
SUMMARY:Adjudication Hearing
DESCRIPTION:Adjucation Hearings are held in the MacArthur Board Room\, which is accessible using the north entry (facing Algonquin Road). 
URL:https://barringtonhills-il.gov/event/adjudication-hearing-2/2026-06-09/
LOCATION:Village Hall\, 112 Algonquin Rd\, Barrington Hills\, IL\, 60010-5199
CATEGORIES:Adjudication Hearing
GEO:42.113822;-88.1818499
X-APPLE-STRUCTURED-LOCATION;VALUE=URI;X-ADDRESS=Village Hall 112 Algonquin Rd Barrington Hills IL 60010-5199;X-APPLE-RADIUS=500;X-TITLE=112 Algonquin Rd:geo:-88.1818499,42.113822
END:VEVENT
BEGIN:VEVENT
DTSTART;TZID=America/Chicago:20260714T110000
DTEND;TZID=America/Chicago:20260714T110000
DTSTAMP:20260425T082815
CREATED:20260108T174538Z
LAST-MODIFIED:20260108T174538Z
UID:20108-1784026800-1784026800@barringtonhills-il.gov
SUMMARY:Adjudication Hearing
DESCRIPTION:Adjucation Hearings are held in the MacArthur Board Room\, which is accessible using the north entry (facing Algonquin Road). 
URL:https://barringtonhills-il.gov/event/adjudication-hearing-2/2026-07-14/
LOCATION:Village Hall\, 112 Algonquin Rd\, Barrington Hills\, IL\, 60010-5199
CATEGORIES:Adjudication Hearing
GEO:42.113822;-88.1818499
X-APPLE-STRUCTURED-LOCATION;VALUE=URI;X-ADDRESS=Village Hall 112 Algonquin Rd Barrington Hills IL 60010-5199;X-APPLE-RADIUS=500;X-TITLE=112 Algonquin Rd:geo:-88.1818499,42.113822
END:VEVENT
BEGIN:VEVENT
DTSTART;TZID=America/Chicago:20260811T110000
DTEND;TZID=America/Chicago:20260811T110000
DTSTAMP:20260425T082815
CREATED:20260108T174538Z
LAST-MODIFIED:20260108T174538Z
UID:20109-1786446000-1786446000@barringtonhills-il.gov
SUMMARY:Adjudication Hearing
DESCRIPTION:Adjucation Hearings are held in the MacArthur Board Room\, which is accessible using the north entry (facing Algonquin Road). 
URL:https://barringtonhills-il.gov/event/adjudication-hearing-2/2026-08-11/
LOCATION:Village Hall\, 112 Algonquin Rd\, Barrington Hills\, IL\, 60010-5199
CATEGORIES:Adjudication Hearing
GEO:42.113822;-88.1818499
X-APPLE-STRUCTURED-LOCATION;VALUE=URI;X-ADDRESS=Village Hall 112 Algonquin Rd Barrington Hills IL 60010-5199;X-APPLE-RADIUS=500;X-TITLE=112 Algonquin Rd:geo:-88.1818499,42.113822
END:VEVENT
BEGIN:VEVENT
DTSTART;TZID=America/Chicago:20260908T110000
DTEND;TZID=America/Chicago:20260908T110000
DTSTAMP:20260425T082815
CREATED:20260108T174538Z
LAST-MODIFIED:20260108T174538Z
UID:20110-1788865200-1788865200@barringtonhills-il.gov
SUMMARY:Adjudication Hearing
DESCRIPTION:Adjucation Hearings are held in the MacArthur Board Room\, which is accessible using the north entry (facing Algonquin Road). 
URL:https://barringtonhills-il.gov/event/adjudication-hearing-2/2026-09-08/
LOCATION:Village Hall\, 112 Algonquin Rd\, Barrington Hills\, IL\, 60010-5199
CATEGORIES:Adjudication Hearing
GEO:42.113822;-88.1818499
X-APPLE-STRUCTURED-LOCATION;VALUE=URI;X-ADDRESS=Village Hall 112 Algonquin Rd Barrington Hills IL 60010-5199;X-APPLE-RADIUS=500;X-TITLE=112 Algonquin Rd:geo:-88.1818499,42.113822
END:VEVENT
BEGIN:VEVENT
DTSTART;TZID=America/Chicago:20261013T110000
DTEND;TZID=America/Chicago:20261013T110000
DTSTAMP:20260425T082815
CREATED:20260108T174538Z
LAST-MODIFIED:20260108T174538Z
UID:20111-1791889200-1791889200@barringtonhills-il.gov
SUMMARY:Adjudication Hearing
DESCRIPTION:Adjucation Hearings are held in the MacArthur Board Room\, which is accessible using the north entry (facing Algonquin Road). 
URL:https://barringtonhills-il.gov/event/adjudication-hearing-2/2026-10-13/
LOCATION:Village Hall\, 112 Algonquin Rd\, Barrington Hills\, IL\, 60010-5199
CATEGORIES:Adjudication Hearing
GEO:42.113822;-88.1818499
X-APPLE-STRUCTURED-LOCATION;VALUE=URI;X-ADDRESS=Village Hall 112 Algonquin Rd Barrington Hills IL 60010-5199;X-APPLE-RADIUS=500;X-TITLE=112 Algonquin Rd:geo:-88.1818499,42.113822
END:VEVENT
BEGIN:VEVENT
DTSTART;TZID=America/Chicago:20261110T110000
DTEND;TZID=America/Chicago:20261110T110000
DTSTAMP:20260425T082815
CREATED:20260108T174538Z
LAST-MODIFIED:20260108T174538Z
UID:20112-1794308400-1794308400@barringtonhills-il.gov
SUMMARY:Adjudication Hearing
DESCRIPTION:Adjucation Hearings are held in the MacArthur Board Room\, which is accessible using the north entry (facing Algonquin Road). 
URL:https://barringtonhills-il.gov/event/adjudication-hearing-2/2026-11-10/
LOCATION:Village Hall\, 112 Algonquin Rd\, Barrington Hills\, IL\, 60010-5199
CATEGORIES:Adjudication Hearing
GEO:42.113822;-88.1818499
X-APPLE-STRUCTURED-LOCATION;VALUE=URI;X-ADDRESS=Village Hall 112 Algonquin Rd Barrington Hills IL 60010-5199;X-APPLE-RADIUS=500;X-TITLE=112 Algonquin Rd:geo:-88.1818499,42.113822
END:VEVENT
BEGIN:VEVENT
DTSTART;TZID=America/Chicago:20261208T110000
DTEND;TZID=America/Chicago:20261208T110000
DTSTAMP:20260425T082815
CREATED:20260108T174538Z
LAST-MODIFIED:20260108T174538Z
UID:20113-1796727600-1796727600@barringtonhills-il.gov
SUMMARY:Adjudication Hearing
DESCRIPTION:Adjucation Hearings are held in the MacArthur Board Room\, which is accessible using the north entry (facing Algonquin Road). 
URL:https://barringtonhills-il.gov/event/adjudication-hearing-2/2026-12-08/
LOCATION:Village Hall\, 112 Algonquin Rd\, Barrington Hills\, IL\, 60010-5199
CATEGORIES:Adjudication Hearing
GEO:42.113822;-88.1818499
X-APPLE-STRUCTURED-LOCATION;VALUE=URI;X-ADDRESS=Village Hall 112 Algonquin Rd Barrington Hills IL 60010-5199;X-APPLE-RADIUS=500;X-TITLE=112 Algonquin Rd:geo:-88.1818499,42.113822
END:VEVENT
END:VCALENDAR