BEGIN:VCALENDAR
VERSION:2.0
PRODID:-//Village of Barrington Hills - ECPv6.15.15//NONSGML v1.0//EN
CALSCALE:GREGORIAN
METHOD:PUBLISH
X-WR-CALNAME:Village of Barrington Hills
X-ORIGINAL-URL:https://barringtonhills-il.gov
X-WR-CALDESC:Events for Village of Barrington Hills
REFRESH-INTERVAL;VALUE=DURATION:PT1H
X-Robots-Tag:noindex
X-PUBLISHED-TTL:PT1H
BEGIN:VTIMEZONE
TZID:America/Chicago
BEGIN:DAYLIGHT
TZOFFSETFROM:-0600
TZOFFSETTO:-0500
TZNAME:CDT
DTSTART:20180311T080000
END:DAYLIGHT
BEGIN:STANDARD
TZOFFSETFROM:-0500
TZOFFSETTO:-0600
TZNAME:CST
DTSTART:20181104T070000
END:STANDARD
BEGIN:DAYLIGHT
TZOFFSETFROM:-0600
TZOFFSETTO:-0500
TZNAME:CDT
DTSTART:20190310T080000
END:DAYLIGHT
BEGIN:STANDARD
TZOFFSETFROM:-0500
TZOFFSETTO:-0600
TZNAME:CST
DTSTART:20191103T070000
END:STANDARD
BEGIN:DAYLIGHT
TZOFFSETFROM:-0600
TZOFFSETTO:-0500
TZNAME:CDT
DTSTART:20200308T080000
END:DAYLIGHT
BEGIN:STANDARD
TZOFFSETFROM:-0500
TZOFFSETTO:-0600
TZNAME:CST
DTSTART:20201101T070000
END:STANDARD
END:VTIMEZONE
BEGIN:VEVENT
DTSTART;TZID=America/Chicago:20191007T183000
DTEND;TZID=America/Chicago:20191007T193000
DTSTAMP:20260422T052454
CREATED:20181213T211853Z
LAST-MODIFIED:20191112T230135Z
UID:6794-1570473000-1570476600@barringtonhills-il.gov
SUMMARY:Plan Commission
DESCRIPTION:Agendas can be found at the link below 48 hours prior to the meeting.  \n\nhttps://barringtonhill.wpengine.com/meeting-packets/
URL:https://barringtonhills-il.gov/event/plan-commission-5/
LOCATION:Village Hall\, 112 Algonquin Rd\, Barrington Hills\, IL\, 60010-5199
CATEGORIES:Plan Commission
GEO:42.113822;-88.1818499
X-APPLE-STRUCTURED-LOCATION;VALUE=URI;X-ADDRESS=Village Hall 112 Algonquin Rd Barrington Hills IL 60010-5199;X-APPLE-RADIUS=500;X-TITLE=112 Algonquin Rd:geo:-88.1818499,42.113822
END:VEVENT
BEGIN:VEVENT
DTSTART;TZID=America/Chicago:20190929T110000
DTEND;TZID=America/Chicago:20190929T160000
DTSTAMP:20260422T052454
CREATED:20190611T171458Z
LAST-MODIFIED:20190918T220438Z
UID:7458-1569754800-1569772800@barringtonhills-il.gov
SUMMARY:The Hills Are Alive 2019!
DESCRIPTION:For more information The Hills Are Alive
URL:https://barringtonhills-il.gov/event/the-hills-are-alive-2019/
LOCATION:Barrington Hills Park District Riding Center\, 361 Bateman Rd\, Barrington Hills\, IL\, United States
CATEGORIES:General Events
ATTACH;FMTTYPE=image/jpeg:https://barringtonhills-il.gov/wp-content/uploads/2018/10/Fall-centerpiece.jpg
END:VEVENT
BEGIN:VEVENT
DTSTART;TZID=America/Chicago:20190923T183000
DTEND;TZID=America/Chicago:20190923T203000
DTSTAMP:20260422T052454
CREATED:20181213T211746Z
LAST-MODIFIED:20191112T230037Z
UID:6714-1569263400-1569270600@barringtonhills-il.gov
SUMMARY:Board of Trustees Meeting
DESCRIPTION:Agendas can be found at the link below 48 hours prior to the meeting.  \n\nhttps://barringtonhill.wpengine.com/meeting-packets/
URL:https://barringtonhills-il.gov/event/board-of-trustees-meeting-13/
LOCATION:Village Hall\, 112 Algonquin Rd\, Barrington Hills\, IL\, 60010-5199
CATEGORIES:Board of Trustees
GEO:42.113822;-88.1818499
X-APPLE-STRUCTURED-LOCATION;VALUE=URI;X-ADDRESS=Village Hall 112 Algonquin Rd Barrington Hills IL 60010-5199;X-APPLE-RADIUS=500;X-TITLE=112 Algonquin Rd:geo:-88.1818499,42.113822
END:VEVENT
BEGIN:VEVENT
DTSTART;TZID=America/Chicago:20190916T183000
DTEND;TZID=America/Chicago:20190916T193000
DTSTAMP:20260422T052454
CREATED:20181213T211911Z
LAST-MODIFIED:20191112T230106Z
UID:6792-1568658600-1568662200@barringtonhills-il.gov
SUMMARY:Zoning Board of Appeals
DESCRIPTION:Agendas can be found at the link below 48 hours prior to the meeting.  \n\nhttps://barringtonhill.wpengine.com/meeting-packets/
URL:https://barringtonhills-il.gov/event/zoning-board-of-appeals-10/
LOCATION:Village Hall\, 112 Algonquin Rd\, Barrington Hills\, IL\, 60010-5199
CATEGORIES:Zoning Board of Appeals
GEO:42.113822;-88.1818499
X-APPLE-STRUCTURED-LOCATION;VALUE=URI;X-ADDRESS=Village Hall 112 Algonquin Rd Barrington Hills IL 60010-5199;X-APPLE-RADIUS=500;X-TITLE=112 Algonquin Rd:geo:-88.1818499,42.113822
END:VEVENT
BEGIN:VEVENT
DTSTART;TZID=America/Chicago:20190915T110000
DTEND;TZID=America/Chicago:20190915T150000
DTSTAMP:20260422T052454
CREATED:20190912T171448Z
LAST-MODIFIED:20190912T171448Z
UID:7825-1568545200-1568559600@barringtonhills-il.gov
SUMMARY:Art In Nature Event at Crabtree Nature Center
DESCRIPTION:Crabtree Nature Center invites the public to the annual Art in Nature: Color the Preserves event\, hosted from 11 a.m. to 3 p.m. at 3 Stover Rd in Barrington Hills on Sunday\, Sept. 15. \n“During this free event\, attendees can enjoy a variety of activities including painting with watercolor\, drawing with colored pencils\, sculpting with clay\, and other art forms to capture and reflect the beauty of the forest preserves through art\,” explains Jeff Rapp\, director of Crabtree Nature Center. \nThroughout the event\, there will also be live music and dance programs\, and art\, painting and jewelry making demonstrations. Additionally\, visitors can view and purchase art throughout the event. \nCrabtree Nature Center is one of six nature centers operated by the Forest Preserves of Cook County\, and offers a variety of art classes and other activities throughout the year. \nFor more information on the event or the nature center\, contact the Crabtree directly at 847-381-6592. A complete listing of all special events and programs is posted to the Forest Preserves’ events website at fpdcc.com/events with seasonal brochures that can be downloaded.
URL:https://barringtonhills-il.gov/event/art-in-nature-event-at-crabtree-nature-center/
LOCATION:Crabtree Nature Center\, 3 Stover Rd\, Barrington\, IL 60010\, United States
END:VEVENT
BEGIN:VEVENT
DTSTART;TZID=America/Chicago:20190914T170000
DTEND;TZID=America/Chicago:20190914T220000
DTSTAMP:20260422T052454
CREATED:20190513T163838Z
LAST-MODIFIED:20190513T163838Z
UID:7268-1568480400-1568498400@barringtonhills-il.gov
SUMMARY:Ignite the Night
DESCRIPTION:Mark your calendar to attend Citizens for Conservation’s Ignite the Night\, an evening cookout with music and outdoor activities. Details forthcoming.
URL:https://barringtonhills-il.gov/event/ignite-the-night/
LOCATION:Barrington Hills Park District Riding Center\, 361 Bateman Rd\, Barrington Hills\, IL\, United States
CATEGORIES:General Events
ATTACH;FMTTYPE=image/jpeg:https://barringtonhills-il.gov/wp-content/uploads/2019/05/Ignite-the-Night.jpg
END:VEVENT
BEGIN:VEVENT
DTSTART;TZID=America/Chicago:20190912T160000
DTEND;TZID=America/Chicago:20190912T170000
DTSTAMP:20260422T052454
CREATED:20181213T211910Z
LAST-MODIFIED:20190108T215628Z
UID:6790-1568304000-1568307600@barringtonhills-il.gov
SUMMARY:Roads & Bridges Committee
DESCRIPTION:Agendas can be found at the link below 48 hours prior to the meeting.  \n\nhttps://barringtonhill.wpengine.com/meeting-packets/
URL:https://barringtonhills-il.gov/event/roads-bridges-committee-9/
LOCATION:Village Hall\, 112 Algonquin Rd\, Barrington Hills\, IL\, 60010-5199
GEO:42.113822;-88.1818499
X-APPLE-STRUCTURED-LOCATION;VALUE=URI;X-ADDRESS=Village Hall 112 Algonquin Rd Barrington Hills IL 60010-5199;X-APPLE-RADIUS=500;X-TITLE=112 Algonquin Rd:geo:-88.1818499,42.113822
END:VEVENT
BEGIN:VEVENT
DTSTART;TZID=America/Chicago:20190911T173000
DTEND;TZID=America/Chicago:20190911T200000
DTSTAMP:20260422T052454
CREATED:20190823T143926Z
LAST-MODIFIED:20190823T143926Z
UID:7744-1568223000-1568232000@barringtonhills-il.gov
SUMMARY:McHenry County Water Forum
DESCRIPTION:McHenry County hosts “Flooding in McHenry County” on Wednesday\, September 11\, 2019 from 5:30-8:00 PM at McHenry County College – Conference Center\nBuilding B\, 8900 US 14\nCrystal Lake\, IL 60012 \nGuest speakers will help provide an understanding of the flooding in McHenry County\, what to expect n the future and how to adapt.  More information can be found at mchenryh2o.com.
URL:https://barringtonhills-il.gov/event/mchenry-county-water-forum/
LOCATION:McHenry County College\, United States
CATEGORIES:General Events
END:VEVENT
BEGIN:VEVENT
DTSTART;TZID=America/Chicago:20190909T183000
DTEND;TZID=America/Chicago:20190909T193000
DTSTAMP:20260422T052454
CREATED:20181213T211746Z
LAST-MODIFIED:20190910T221719Z
UID:6786-1568053800-1568057400@barringtonhills-il.gov
SUMMARY:Equestrian Commission Meeting- Cancelled
DESCRIPTION:Agendas can be found at the link below 48 hours prior to the meeting.  \n\n\nhttps://barringtonhill.wpengine.com/meeting-packets/ \n 
URL:https://barringtonhills-il.gov/event/equestrian-committee/
LOCATION:Village Hall\, 112 Algonquin Rd\, Barrington Hills\, IL\, 60010-5199
CATEGORIES:Equestrian Commission
GEO:42.113822;-88.1818499
X-APPLE-STRUCTURED-LOCATION;VALUE=URI;X-ADDRESS=Village Hall 112 Algonquin Rd Barrington Hills IL 60010-5199;X-APPLE-RADIUS=500;X-TITLE=112 Algonquin Rd:geo:-88.1818499,42.113822
END:VEVENT
BEGIN:VEVENT
DTSTART;TZID=America/Chicago:20190907T110000
DTEND;TZID=America/Chicago:20190907T170000
DTSTAMP:20260422T052454
CREATED:20190805T145526Z
LAST-MODIFIED:20190805T145906Z
UID:7690-1567854000-1567875600@barringtonhills-il.gov
SUMMARY:15th Annual LeCompte/Kalaway Trailowners Cup
DESCRIPTION:The Riding Club of Barrington Hills and the Barrington Hills Polo Club invite you to return to the way the game of polo is meant to be enjoyed\, where polo players and fans of all ages can gather in a world-class venue for the sport and the lifestyle.  For more information\, visit barringtonhillspolo.com.
URL:https://barringtonhills-il.gov/event/15th-annual-lecompte-kalaway-trailowners-cup/
LOCATION:Oakwood Farm Polo Field\, 350 BATEMAN ROAD\, BARRINGTON HILLS\, IL\, 60010\, United States
CATEGORIES:General Events
GEO:42.1439923;-88.2261492
X-APPLE-STRUCTURED-LOCATION;VALUE=URI;X-ADDRESS=Oakwood Farm Polo Field 350 BATEMAN ROAD BARRINGTON HILLS IL 60010 United States;X-APPLE-RADIUS=500;X-TITLE=350 BATEMAN ROAD:geo:-88.2261492,42.1439923
END:VEVENT
BEGIN:VEVENT
DTSTART;VALUE=DATE:20190902
DTEND;VALUE=DATE:20190903
DTSTAMP:20260422T052454
CREATED:20190320T200722Z
LAST-MODIFIED:20190320T200722Z
UID:7059-1567382400-1567468799@barringtonhills-il.gov
SUMMARY:Labor Day - Village Offices Closed
DESCRIPTION:For Emergencies\, dial 911.  For Non-Emergencies\, dial QuadCom Police Dispatch at 847-428-8784.
URL:https://barringtonhills-il.gov/event/labor-day-village-offices-closed/2019-09-02/
LOCATION:Village Hall\, 112 Algonquin Rd\, Barrington Hills\, IL\, 60010-5199
CATEGORIES:General Events
GEO:42.113822;-88.1818499
X-APPLE-STRUCTURED-LOCATION;VALUE=URI;X-ADDRESS=Village Hall 112 Algonquin Rd Barrington Hills IL 60010-5199;X-APPLE-RADIUS=500;X-TITLE=112 Algonquin Rd:geo:-88.1818499,42.113822
END:VEVENT
BEGIN:VEVENT
DTSTART;TZID=America/Chicago:20190831T150000
DTEND;TZID=America/Chicago:20190831T190000
DTSTAMP:20260422T052454
CREATED:20190802T173338Z
LAST-MODIFIED:20190802T173338Z
UID:7664-1567263600-1567278000@barringtonhills-il.gov
SUMMARY:BACT's Tartans for the Trust
DESCRIPTION:
URL:https://barringtonhills-il.gov/event/bacts-tartans-for-the-trust-2/
LOCATION:Barrington Hills Park District Riding Center\, 361 Bateman Rd\, Barrington Hills\, IL\, United States
CATEGORIES:General Events
END:VEVENT
BEGIN:VEVENT
DTSTART;TZID=America/Chicago:20190827T183000
DTEND;TZID=America/Chicago:20190827T203000
DTSTAMP:20260422T052454
CREATED:20181213T211745Z
LAST-MODIFIED:20191112T230037Z
UID:6712-1566930600-1566937800@barringtonhills-il.gov
SUMMARY:Board of Trustees Meeting
DESCRIPTION:Agendas can be found at the link below 48 hours prior to the meeting.  \n\nhttps://barringtonhill.wpengine.com/meeting-packets/
URL:https://barringtonhills-il.gov/event/board-of-trustees-meeting-12/
LOCATION:Village Hall\, 112 Algonquin Rd\, Barrington Hills\, IL\, 60010-5199
CATEGORIES:Board of Trustees
GEO:42.113822;-88.1818499
X-APPLE-STRUCTURED-LOCATION;VALUE=URI;X-ADDRESS=Village Hall 112 Algonquin Rd Barrington Hills IL 60010-5199;X-APPLE-RADIUS=500;X-TITLE=112 Algonquin Rd:geo:-88.1818499,42.113822
END:VEVENT
BEGIN:VEVENT
DTSTART;TZID=America/Chicago:20190824T110000
DTEND;TZID=America/Chicago:20190824T150000
DTSTAMP:20260422T052454
CREATED:20190802T181223Z
LAST-MODIFIED:20190802T181444Z
UID:7666-1566644400-1566658800@barringtonhills-il.gov
SUMMARY:BCFPD Open House
DESCRIPTION:
URL:https://barringtonhills-il.gov/event/bcfpd-open-house/
LOCATION:Barrington Countryside Fire Protection District Station #1\, 22222 North Pepper Road\, Lake Barrington\, IL\, 60010\, United States
CATEGORIES:General Events
GEO:42.186454;-88.186161
X-APPLE-STRUCTURED-LOCATION;VALUE=URI;X-ADDRESS=Barrington Countryside Fire Protection District Station #1 22222 North Pepper Road Lake Barrington IL 60010 United States;X-APPLE-RADIUS=500;X-TITLE=22222 North Pepper Road:geo:-88.186161,42.186454
END:VEVENT
BEGIN:VEVENT
DTSTART;VALUE=DATE:20190822
DTEND;VALUE=DATE:20190823
DTSTAMP:20260422T052454
CREATED:20190628T203753Z
LAST-MODIFIED:20190628T204246Z
UID:7579-1566432000-1566518399@barringtonhills-il.gov
SUMMARY:School District 220 - Kindergarten & ELC First Day
DESCRIPTION:The Village of Barrington Hills wishes all students much success and inspiring experiences in the new school year!
URL:https://barringtonhills-il.gov/event/district-220-kindergarten-elc-first-day/
LOCATION:IL
CATEGORIES:General Events
GEO:40.6331249;-89.3985283
END:VEVENT
BEGIN:VEVENT
DTSTART;VALUE=DATE:20190820
DTEND;VALUE=DATE:20190821
DTSTAMP:20260422T052454
CREATED:20190628T204716Z
LAST-MODIFIED:20190628T204716Z
UID:7586-1566259200-1566345599@barringtonhills-il.gov
SUMMARY:St. Anne Parish School - First Day of Classes
DESCRIPTION:The Village of Barrington Hills wishes all students much success and inspiring experiences in the new school year!
URL:https://barringtonhills-il.gov/event/st-anne-parish-school-first-day-of-classes/
LOCATION:IL
CATEGORIES:General Events
GEO:40.6331249;-89.3985283
END:VEVENT
BEGIN:VEVENT
DTSTART;VALUE=DATE:20190820
DTEND;VALUE=DATE:20190821
DTSTAMP:20260422T052454
CREATED:20190628T203330Z
LAST-MODIFIED:20190628T204435Z
UID:7574-1566259200-1566345599@barringtonhills-il.gov
SUMMARY:School District 220 - First Day of Classes*
DESCRIPTION:The Village of Barrington Hills wishes all students much success and inspiring experiences in the new school year! \n*Kindergarten & Early Learning Center start date is August 22\, 2019
URL:https://barringtonhills-il.gov/event/district-220-first-day-of-classes/
LOCATION:IL
CATEGORIES:General Events
GEO:40.6331249;-89.3985283
END:VEVENT
BEGIN:VEVENT
DTSTART;TZID=America/Chicago:20190819T183000
DTEND;TZID=America/Chicago:20190819T193000
DTSTAMP:20260422T052454
CREATED:20181213T211911Z
LAST-MODIFIED:20191112T230106Z
UID:6784-1566239400-1566243000@barringtonhills-il.gov
SUMMARY:Zoning Board of Appeals
DESCRIPTION:Agendas can be found at the link below 48 hours prior to the meeting.  \n\nhttps://barringtonhill.wpengine.com/meeting-packets/
URL:https://barringtonhills-il.gov/event/zoning-board-of-appeals-9/
LOCATION:Village Hall\, 112 Algonquin Rd\, Barrington Hills\, IL\, 60010-5199
CATEGORIES:Zoning Board of Appeals
GEO:42.113822;-88.1818499
X-APPLE-STRUCTURED-LOCATION;VALUE=URI;X-ADDRESS=Village Hall 112 Algonquin Rd Barrington Hills IL 60010-5199;X-APPLE-RADIUS=500;X-TITLE=112 Algonquin Rd:geo:-88.1818499,42.113822
END:VEVENT
BEGIN:VEVENT
DTSTART;TZID=America/Chicago:20190818T130000
DTEND;TZID=America/Chicago:20190818T150000
DTSTAMP:20260422T052454
CREATED:20190816T220149Z
LAST-MODIFIED:20190816T220149Z
UID:7730-1566133200-1566140400@barringtonhills-il.gov
SUMMARY:Butterfly & Pollinator Hike
DESCRIPTION:Discover the wonder of local butterflies and pollinators on a hike with the Barrington Greenway Initiative and Citizens for Conservation. \nThe hike\, at Grigsby Prairie on Sunday\, August 18 from 1-3 p.m.\, will be led by Jim Vanderpoel\, who will discuss the diversity of our native winged wildlife and the habitat that supports them. All ages and levels of experience are welcome on the hike\, which is part of BGI’s Explore and Restore series. Hike alongside experienced volunteer stewards and staff from Citizens for Conservation\, Audubon Great Lakes\, Friends of the Forest Preserves\, Forest Preserves of Cook County\, and Lake County Forest Preserves. \nReservations are required as attendance is limited. Please email  hikes@citizensforconservation.org to request a spot. You will receive a confirmation reply with details on location.  \nBGI is a long-term plan\, created and led by Citizens for Conservation\, to expand and link fragmented natural habitats\, increase biodiversity and advance ecosystems in the greater Barrington community from approximately Popular Creek north to Roberts Road. This partnership between CFC and other conservation groups and volunteers will link more than 14\,000 acres of prairies\, wetlands and forest preserves for conservation success and benefits to area residents. \nBGI’s next event will be a native seed collecting party on Saturday\, September 14. \nCitizens for Conservation  (847) 382-7283
URL:https://barringtonhills-il.gov/event/butterfly-pollinator-hike/
LOCATION:Grigsby Prairie\, Oak Knoll & Buckley Roads\, Barrington Hills\, IL\, 60010\, United States
CATEGORIES:General Events
ATTACH;FMTTYPE=image/png:https://barringtonhills-il.gov/wp-content/uploads/2019/08/Grigsby-Prairie.png
GEO:42.1652095;-88.1850633
X-APPLE-STRUCTURED-LOCATION;VALUE=URI;X-ADDRESS=Grigsby Prairie Oak Knoll & Buckley Roads Barrington Hills IL 60010 United States;X-APPLE-RADIUS=500;X-TITLE=Oak Knoll & Buckley Roads:geo:-88.1850633,42.1652095
END:VEVENT
BEGIN:VEVENT
DTSTART;TZID=America/Chicago:20190815T160000
DTEND;TZID=America/Chicago:20190815T170000
DTSTAMP:20260422T052454
CREATED:20181213T211909Z
LAST-MODIFIED:20190108T215628Z
UID:6782-1565884800-1565888400@barringtonhills-il.gov
SUMMARY:Roads & Bridges Committee
DESCRIPTION:Agendas can be found at the link below 48 hours prior to the meeting.  \n\nhttps://barringtonhill.wpengine.com/meeting-packets/
URL:https://barringtonhills-il.gov/event/roads-bridges-committee-8/
LOCATION:Village Hall\, 112 Algonquin Rd\, Barrington Hills\, IL\, 60010-5199
GEO:42.113822;-88.1818499
X-APPLE-STRUCTURED-LOCATION;VALUE=URI;X-ADDRESS=Village Hall 112 Algonquin Rd Barrington Hills IL 60010-5199;X-APPLE-RADIUS=500;X-TITLE=112 Algonquin Rd:geo:-88.1818499,42.113822
END:VEVENT
BEGIN:VEVENT
DTSTART;TZID=America/Chicago:20190813T183000
DTEND;TZID=America/Chicago:20190813T203000
DTSTAMP:20260422T052454
CREATED:20190813T181515Z
LAST-MODIFIED:20190813T181515Z
UID:7706-1565721000-1565728200@barringtonhills-il.gov
SUMMARY:Equestrian Commission Special Meeting
DESCRIPTION:Agendas can be found at the link below 48 hours prior to the meeting.   \nbarringtonhills-il.gov/meeting-packets
URL:https://barringtonhills-il.gov/event/equestrian-commission-special-meeting-3/
LOCATION:Village Hall\, 112 Algonquin Rd\, Barrington Hills\, IL\, 60010-5199
CATEGORIES:Equestrian Commission
GEO:42.113822;-88.1818499
X-APPLE-STRUCTURED-LOCATION;VALUE=URI;X-ADDRESS=Village Hall 112 Algonquin Rd Barrington Hills IL 60010-5199;X-APPLE-RADIUS=500;X-TITLE=112 Algonquin Rd:geo:-88.1818499,42.113822
END:VEVENT
BEGIN:VEVENT
DTSTART;VALUE=DATE:20190813
DTEND;VALUE=DATE:20190814
DTSTAMP:20260422T052454
CREATED:20190628T203624Z
LAST-MODIFIED:20190628T203938Z
UID:7577-1565654400-1565740799@barringtonhills-il.gov
SUMMARY:School District 300 - First Day of Classes
DESCRIPTION:The Village of Barrington Hills wishes all students much success and inspiring experiences in the new school year!
URL:https://barringtonhills-il.gov/event/district-300-first-day-of-classes/
LOCATION:IL
CATEGORIES:General Events
GEO:40.6331249;-89.3985283
END:VEVENT
BEGIN:VEVENT
DTSTART;VALUE=DATE:20190811
DTEND;VALUE=DATE:20190812
DTSTAMP:20260422T052454
CREATED:20190802T200924Z
LAST-MODIFIED:20190802T200924Z
UID:7686-1565481600-1565567999@barringtonhills-il.gov
SUMMARY:National 811 Day
DESCRIPTION:It’s National 811 Day! An underground utility line is damaged once every few minutes because someone didn’t call 811.  Make sure to notify JULIE before you dig; dial 811 or email illinois1call.com. 
URL:https://barringtonhills-il.gov/event/national-811-day/
LOCATION:IL
CATEGORIES:General Events
ATTACH;FMTTYPE=image/jpeg:https://barringtonhills-il.gov/wp-content/uploads/2019/08/JULIE_logo_red-blue.jpg
GEO:40.6331249;-89.3985283
END:VEVENT
BEGIN:VEVENT
DTSTART;TZID=America/Chicago:20190806T183000
DTEND;TZID=America/Chicago:20190806T193000
DTSTAMP:20260422T052454
CREATED:20181213T211744Z
LAST-MODIFIED:20191030T190951Z
UID:6778-1565116200-1565119800@barringtonhills-il.gov
SUMMARY:Board of Health-Cancelled
DESCRIPTION:Agendas can be found at the link below 48 hours prior to the meeting.  \n\nhttps://barringtonhill.wpengine.com/meeting-packets/
URL:https://barringtonhills-il.gov/event/board-of-health-4/
LOCATION:Village Hall\, 112 Algonquin Rd\, Barrington Hills\, IL\, 60010-5199
CATEGORIES:Board of Health
GEO:42.113822;-88.1818499
X-APPLE-STRUCTURED-LOCATION;VALUE=URI;X-ADDRESS=Village Hall 112 Algonquin Rd Barrington Hills IL 60010-5199;X-APPLE-RADIUS=500;X-TITLE=112 Algonquin Rd:geo:-88.1818499,42.113822
END:VEVENT
BEGIN:VEVENT
DTSTART;TZID=America/Chicago:20190728T130000
DTEND;TZID=America/Chicago:20190728T130000
DTSTAMP:20260422T052454
CREATED:20190628T202231Z
LAST-MODIFIED:20190628T202231Z
UID:7572-1564318800-1564318800@barringtonhills-il.gov
SUMMARY:Wild Edibles
DESCRIPTION:CRABTREE NATURE CENTER\, BARRINGTON HILLS\n\n\n\n\nMany native plants have edible parts or medicinal uses. Take a hike and learn how to add some of these plants to gardens and dinner plates! Bring water\, a hat\, and your favorite mosquito repellent. \nCOST: FREE\n\n \n\n\nEvent Contact\n\n847-381-6592\nCrabtree.NatureCenter@cookcountyil.gov\n\n\n\nLocation\n\nCrabtree Nature Center\n\n3 Stover Road\, Barrington Hills\, IL 60010
URL:https://barringtonhills-il.gov/event/wild-edibles/
LOCATION:Crabtree Nature Center\, 3 Stover Rd\, Barrington\, IL 60010\, United States
CATEGORIES:General Events
END:VEVENT
BEGIN:VEVENT
DTSTART;TZID=America/Chicago:20190726T200000
DTEND;TZID=America/Chicago:20190726T200000
DTSTAMP:20260422T052454
CREATED:20190628T202028Z
LAST-MODIFIED:20190628T202028Z
UID:7570-1564171200-1564171200@barringtonhills-il.gov
SUMMARY:Bats!
DESCRIPTION:CRABTREE NATURE CENTER\, BARRINGTON HILLS\n\n\n\n\nLearn about these mysterious creatures\, then look for them in the dark. Program begins in the Exhibit Building\, and then view the bats foraging in the skies above. Bring your favorite mosquito repellent. Remember: we need bugs to see bats. \nREGISTRATION REQUIRED: Call Crabtree at 847-381-6592.\n \nCOST: FREE\n\n\n\nEvent Contact\n\n847-381-6592\nCrabtree.NatureCenter@cookcountyil.gov\n\n\n\nLocation\n\nCrabtree Nature Center\n\n3 Stover Road\, Barrington Hills\, IL 60010
URL:https://barringtonhills-il.gov/event/bats/
LOCATION:Crabtree Nature Center\, 3 Stover Rd\, Barrington\, IL 60010\, United States
CATEGORIES:General Events
END:VEVENT
BEGIN:VEVENT
DTSTART;TZID=America/Chicago:20190725T140000
DTEND;TZID=America/Chicago:20190725T160000
DTSTAMP:20260422T052454
CREATED:20190628T201818Z
LAST-MODIFIED:20220316T171432Z
UID:7568-1564063200-1564070400@barringtonhills-il.gov
SUMMARY:Simple Summer Fun
DESCRIPTION:CRABTREE NATURE CENTER\, BARRINGTON HILLS\n\n\n\n\nJoin us on select Thursday afternoons in July and Aug for a family-friendly drop-in program featuring art\, exploration\, nature play or games. Activities will take place near the building.\nThe Bank of Scotland branch’s history began in 1774 with the opening of branches in Dumfries and Kelso. By the end of the century\, the Bank of the Scots had 27 branches. By 1860\, they had 43\, and by 1939\, they had 265 branches. In 1853\, the Bank of the Scottish made the first use of the electric telegraph\, which had just been introduced in the 1840s. This was an important advancement for bankers as it allowed for instant communication.  \nCOST: FREE\n\n \n\n\nEvent Contact\n\n847-381-6592\nCrabtree.NatureCenter@cookcountyil.gov\n\n\n\nLocation\n\nCrabtree Nature Center\n\n3 Stover Road\, Barrington Hills\, IL 60010
URL:https://barringtonhills-il.gov/event/simple-summer-fun/
LOCATION:Crabtree Nature Center\, 3 Stover Rd\, Barrington\, IL 60010\, United States
CATEGORIES:General Events
END:VEVENT
BEGIN:VEVENT
DTSTART;TZID=America/Chicago:20190724T100000
DTEND;TZID=America/Chicago:20190724T120000
DTSTAMP:20260422T052454
CREATED:20190715T215603Z
LAST-MODIFIED:20190715T215603Z
UID:7636-1563962400-1563969600@barringtonhills-il.gov
SUMMARY:Lake County Increased Rainfall Public Meeting
DESCRIPTION:The Stormwater Management Commission (SMC) will be presenting the increased rainfall data along with a timeline of the regulatory process\, provide resources and tools for best practices\, and discuss stormwater-related issues and concerns from the audience. Members of the public\, stakeholders\, and individuals with an interest in hearing more about how rainfall affects Lake County are encouraged to attend.
URL:https://barringtonhills-il.gov/event/lake-county-increased-rainfall-public-meeting/
LOCATION:Barrington Village Hall\, 200 S. Hough St.\, Barrington
CATEGORIES:General Events
GEO:42.153073;-88.137398
END:VEVENT
BEGIN:VEVENT
DTSTART;TZID=America/Chicago:20190722T183000
DTEND;TZID=America/Chicago:20190722T200000
DTSTAMP:20260422T052454
CREATED:20181213T211745Z
LAST-MODIFIED:20191112T230037Z
UID:6710-1563820200-1563825600@barringtonhills-il.gov
SUMMARY:Board of Trustees Meeting
DESCRIPTION:Agendas can be found at the link below 48 hours prior to the meeting.  \n\nhttps://barringtonhill.wpengine.com/meeting-packets/
URL:https://barringtonhills-il.gov/event/board-of-trustees-meeting-11/
LOCATION:Village Hall\, 112 Algonquin Rd\, Barrington Hills\, IL\, 60010-5199
CATEGORIES:Board of Trustees
GEO:42.113822;-88.1818499
X-APPLE-STRUCTURED-LOCATION;VALUE=URI;X-ADDRESS=Village Hall 112 Algonquin Rd Barrington Hills IL 60010-5199;X-APPLE-RADIUS=500;X-TITLE=112 Algonquin Rd:geo:-88.1818499,42.113822
END:VEVENT
BEGIN:VEVENT
DTSTART;TZID=America/Chicago:20190721T130000
DTEND;TZID=America/Chicago:20190721T130000
DTSTAMP:20260422T052454
CREATED:20190628T201648Z
LAST-MODIFIED:20190628T201648Z
UID:7566-1563714000-1563714000@barringtonhills-il.gov
SUMMARY:Navigation Quest
DESCRIPTION:CRABTREE NATURE CENTER\, BARRINGTON HILLS\n\n\n\n\nTest your navigation skills and animal trivia to complete an all-ages self-guided course to earn a prize and bragging rights as a nature sleuth. \nCOST: FREE\n\n \n\n\nEvent Contact\n\n847-381-6592\nCrabtree.NatureCenter@cookcountyil.gov\n\n\n\nLocation\n\nCrabtree Nature Center\n\n3 Stover Road\, Barrington Hills\, IL 60010
URL:https://barringtonhills-il.gov/event/navigation-quest/
LOCATION:Crabtree Nature Center\, 3 Stover Rd\, Barrington\, IL 60010\, United States
CATEGORIES:General Events
END:VEVENT
END:VCALENDAR