BEGIN:VCALENDAR
VERSION:2.0
PRODID:-//Village of Barrington Hills - ECPv6.15.15//NONSGML v1.0//EN
CALSCALE:GREGORIAN
METHOD:PUBLISH
X-WR-CALNAME:Village of Barrington Hills
X-ORIGINAL-URL:https://barringtonhills-il.gov
X-WR-CALDESC:Events for Village of Barrington Hills
REFRESH-INTERVAL;VALUE=DURATION:PT1H
X-Robots-Tag:noindex
X-PUBLISHED-TTL:PT1H
BEGIN:VTIMEZONE
TZID:America/Chicago
BEGIN:DAYLIGHT
TZOFFSETFROM:-0600
TZOFFSETTO:-0500
TZNAME:CDT
DTSTART:20200308T080000
END:DAYLIGHT
BEGIN:STANDARD
TZOFFSETFROM:-0500
TZOFFSETTO:-0600
TZNAME:CST
DTSTART:20201101T070000
END:STANDARD
BEGIN:DAYLIGHT
TZOFFSETFROM:-0600
TZOFFSETTO:-0500
TZNAME:CDT
DTSTART:20210314T080000
END:DAYLIGHT
BEGIN:STANDARD
TZOFFSETFROM:-0500
TZOFFSETTO:-0600
TZNAME:CST
DTSTART:20211107T070000
END:STANDARD
BEGIN:DAYLIGHT
TZOFFSETFROM:-0600
TZOFFSETTO:-0500
TZNAME:CDT
DTSTART:20220313T080000
END:DAYLIGHT
BEGIN:STANDARD
TZOFFSETFROM:-0500
TZOFFSETTO:-0600
TZNAME:CST
DTSTART:20221106T070000
END:STANDARD
BEGIN:DAYLIGHT
TZOFFSETFROM:-0600
TZOFFSETTO:-0500
TZNAME:CDT
DTSTART:20230312T080000
END:DAYLIGHT
BEGIN:STANDARD
TZOFFSETFROM:-0500
TZOFFSETTO:-0600
TZNAME:CST
DTSTART:20231105T070000
END:STANDARD
END:VTIMEZONE
BEGIN:VEVENT
DTSTART;TZID=America/Chicago:20211206T183000
DTEND;TZID=America/Chicago:20211206T183000
DTSTAMP:20260424T073732
CREATED:20201208T210155Z
LAST-MODIFIED:20211029T142527Z
UID:10152-1638815400-1638815400@barringtonhills-il.gov
SUMMARY:Equestrian Commission - Cancelled
DESCRIPTION:
URL:https://barringtonhills-il.gov/event/equestrian-commission-7/
LOCATION:Village Hall\, 112 Algonquin Rd\, Barrington Hills\, IL\, 60010-5199
CATEGORIES:Equestrian Commission
GEO:42.113822;-88.1818499
X-APPLE-STRUCTURED-LOCATION;VALUE=URI;X-ADDRESS=Village Hall 112 Algonquin Rd Barrington Hills IL 60010-5199;X-APPLE-RADIUS=500;X-TITLE=112 Algonquin Rd:geo:-88.1818499,42.113822
END:VEVENT
BEGIN:VEVENT
DTSTART;TZID=America/Chicago:20211213T160000
DTEND;TZID=America/Chicago:20211213T180000
DTSTAMP:20260424T073732
CREATED:20211109T221417Z
LAST-MODIFIED:20211207T162455Z
UID:11965-1639411200-1639418400@barringtonhills-il.gov
SUMMARY:Roads & Bridges Special Meeting
DESCRIPTION:Agenda and meeting packet will be available to view at least 48 hours before the event via the link Meeting Packets. 
URL:https://barringtonhills-il.gov/event/roads-bridges-special-meeting-3/
LOCATION:Village Hall\, 112 Algonquin Rd\, Barrington Hills\, IL\, 60010-5199
CATEGORIES:Roads & Bridges Committee
GEO:42.113822;-88.1818499
X-APPLE-STRUCTURED-LOCATION;VALUE=URI;X-ADDRESS=Village Hall 112 Algonquin Rd Barrington Hills IL 60010-5199;X-APPLE-RADIUS=500;X-TITLE=112 Algonquin Rd:geo:-88.1818499,42.113822
END:VEVENT
BEGIN:VEVENT
DTSTART;TZID=America/Chicago:20211213T183000
DTEND;TZID=America/Chicago:20211213T183000
DTSTAMP:20260424T073732
CREATED:20201208T210156Z
LAST-MODIFIED:20201208T210156Z
UID:10154-1639420200-1639420200@barringtonhills-il.gov
SUMMARY:Zoning Board of Appeals
DESCRIPTION:
URL:https://barringtonhills-il.gov/event/zoning-board-of-appeals-21/
LOCATION:Village Hall\, 112 Algonquin Rd\, Barrington Hills\, IL\, 60010-5199
CATEGORIES:Zoning Board of Appeals
GEO:42.113822;-88.1818499
X-APPLE-STRUCTURED-LOCATION;VALUE=URI;X-ADDRESS=Village Hall 112 Algonquin Rd Barrington Hills IL 60010-5199;X-APPLE-RADIUS=500;X-TITLE=112 Algonquin Rd:geo:-88.1818499,42.113822
END:VEVENT
BEGIN:VEVENT
DTSTART;TZID=America/Chicago:20211214T183000
DTEND;TZID=America/Chicago:20211214T220000
DTSTAMP:20260424T073732
CREATED:20211109T221236Z
LAST-MODIFIED:20211109T221236Z
UID:11963-1639506600-1639519200@barringtonhills-il.gov
SUMMARY:Plan Commission Special Meeting
DESCRIPTION:Agenda and meeting material will be available to view at least 48 hours before the event via the link Meeting Packets.
URL:https://barringtonhills-il.gov/event/plan-commission-special-meeting-8/
LOCATION:Village Hall\, 112 Algonquin Rd\, Barrington Hills\, IL\, 60010-5199
CATEGORIES:Plan Commission
GEO:42.113822;-88.1818499
X-APPLE-STRUCTURED-LOCATION;VALUE=URI;X-ADDRESS=Village Hall 112 Algonquin Rd Barrington Hills IL 60010-5199;X-APPLE-RADIUS=500;X-TITLE=112 Algonquin Rd:geo:-88.1818499,42.113822
END:VEVENT
BEGIN:VEVENT
DTSTART;TZID=America/Chicago:20211216T183000
DTEND;TZID=America/Chicago:20211216T183000
DTSTAMP:20260424T073732
CREATED:20201204T174705Z
LAST-MODIFIED:20201208T220013Z
UID:10156-1639679400-1639679400@barringtonhills-il.gov
SUMMARY:Board of Trustees
DESCRIPTION:
URL:https://barringtonhills-il.gov/event/board-of-trustees-12/
LOCATION:Village Hall\, 112 Algonquin Rd\, Barrington Hills\, IL\, 60010-5199
CATEGORIES:Board of Trustees
GEO:42.113822;-88.1818499
X-APPLE-STRUCTURED-LOCATION;VALUE=URI;X-ADDRESS=Village Hall 112 Algonquin Rd Barrington Hills IL 60010-5199;X-APPLE-RADIUS=500;X-TITLE=112 Algonquin Rd:geo:-88.1818499,42.113822
END:VEVENT
BEGIN:VEVENT
DTSTART;VALUE=DATE:20211223
DTEND;VALUE=DATE:20211224
DTSTAMP:20260424T073732
CREATED:20201204T175033Z
LAST-MODIFIED:20201208T220013Z
UID:10158-1640217600-1640303999@barringtonhills-il.gov
SUMMARY:VILLAGE HALL CLOSED - Christmas Day (Observed)
DESCRIPTION:
URL:https://barringtonhills-il.gov/event/village-hall-closed-christmas-day-observed/
LOCATION:Village Hall\, 112 Algonquin Rd\, Barrington Hills\, IL\, 60010-5199
CATEGORIES:General Events
GEO:42.113822;-88.1818499
X-APPLE-STRUCTURED-LOCATION;VALUE=URI;X-ADDRESS=Village Hall 112 Algonquin Rd Barrington Hills IL 60010-5199;X-APPLE-RADIUS=500;X-TITLE=112 Algonquin Rd:geo:-88.1818499,42.113822
END:VEVENT
BEGIN:VEVENT
DTSTART;TZID=America/Chicago:20220110T183000
DTEND;TZID=America/Chicago:20220110T220000
DTSTAMP:20260424T073732
CREATED:20211206T185256Z
LAST-MODIFIED:20220104T154404Z
UID:12112-1641839400-1641852000@barringtonhills-il.gov
SUMMARY:Plan Commission - Cancelled
DESCRIPTION:The agenda and meeting material will be posted at least 48 hours before the event via the link Meeting Packets. 
URL:https://barringtonhills-il.gov/event/plan-commission-11/
LOCATION:Village Hall\, 112 Algonquin Rd\, Barrington Hills\, IL\, 60010-5199
CATEGORIES:Plan Commission
GEO:42.113822;-88.1818499
X-APPLE-STRUCTURED-LOCATION;VALUE=URI;X-ADDRESS=Village Hall 112 Algonquin Rd Barrington Hills IL 60010-5199;X-APPLE-RADIUS=500;X-TITLE=112 Algonquin Rd:geo:-88.1818499,42.113822
END:VEVENT
BEGIN:VEVENT
DTSTART;TZID=America/Chicago:20220113T160000
DTEND;TZID=America/Chicago:20220113T170000
DTSTAMP:20260424T073732
CREATED:20211207T162117Z
LAST-MODIFIED:20220217T224400Z
UID:12119-1642089600-1642093200@barringtonhills-il.gov
SUMMARY:Roads & Bridges Committee - Cancelled
DESCRIPTION:
URL:https://barringtonhills-il.gov/event/roads-bridges-committee-11/
LOCATION:Village Hall\, 112 Algonquin Rd\, Barrington Hills\, IL\, 60010-5199
CATEGORIES:Roads & Bridges Committee
GEO:42.113822;-88.1818499
X-APPLE-STRUCTURED-LOCATION;VALUE=URI;X-ADDRESS=Village Hall 112 Algonquin Rd Barrington Hills IL 60010-5199;X-APPLE-RADIUS=500;X-TITLE=112 Algonquin Rd:geo:-88.1818499,42.113822
END:VEVENT
BEGIN:VEVENT
DTSTART;TZID=America/Chicago:20220117T000000
DTEND;TZID=America/Chicago:20220117T000000
DTSTAMP:20260424T073732
CREATED:20161227T205141Z
LAST-MODIFIED:20211123T215025Z
UID:10199-1642377600-1642377600@barringtonhills-il.gov
SUMMARY:VILLAGE HALL CLOSED - Martin Luther King Jr. Day
DESCRIPTION:
URL:https://barringtonhills-il.gov/event/village-hall-closed-martin-luther-king-jr-day-2022-01-16/2022-01-17/
LOCATION:IL
CATEGORIES:General Events
GEO:40.6331249;-89.3985283
END:VEVENT
BEGIN:VEVENT
DTSTART;TZID=America/Chicago:20220118T183000
DTEND;TZID=America/Chicago:20220118T193000
DTSTAMP:20260424T073732
CREATED:20211207T163251Z
LAST-MODIFIED:20220217T224035Z
UID:12143-1642530600-1642534200@barringtonhills-il.gov
SUMMARY:Zoning Board of Appeals - Cancelled
DESCRIPTION:
URL:https://barringtonhills-il.gov/event/zoning-board-of-appeals-22/
LOCATION:Village Hall\, 112 Algonquin Rd\, Barrington Hills\, IL\, 60010-5199
CATEGORIES:Zoning Board of Appeals
GEO:42.113822;-88.1818499
X-APPLE-STRUCTURED-LOCATION;VALUE=URI;X-ADDRESS=Village Hall 112 Algonquin Rd Barrington Hills IL 60010-5199;X-APPLE-RADIUS=500;X-TITLE=112 Algonquin Rd:geo:-88.1818499,42.113822
END:VEVENT
BEGIN:VEVENT
DTSTART;TZID=America/Chicago:20220124T183000
DTEND;TZID=America/Chicago:20220124T183000
DTSTAMP:20260424T073732
CREATED:20211123T231450Z
LAST-MODIFIED:20211123T231450Z
UID:12078-1643049000-1643049000@barringtonhills-il.gov
SUMMARY:Board of Trustees
DESCRIPTION:
URL:https://barringtonhills-il.gov/event/board-of-trustees-13/
LOCATION:Village Hall\, 112 Algonquin Rd\, Barrington Hills\, IL\, 60010-5199
CATEGORIES:Board of Trustees
GEO:42.113822;-88.1818499
X-APPLE-STRUCTURED-LOCATION;VALUE=URI;X-ADDRESS=Village Hall 112 Algonquin Rd Barrington Hills IL 60010-5199;X-APPLE-RADIUS=500;X-TITLE=112 Algonquin Rd:geo:-88.1818499,42.113822
END:VEVENT
BEGIN:VEVENT
DTSTART;TZID=America/Chicago:20220201T183000
DTEND;TZID=America/Chicago:20220201T183000
DTSTAMP:20260424T073732
CREATED:20211209T223152Z
LAST-MODIFIED:20220217T223707Z
UID:12167-1643740200-1643740200@barringtonhills-il.gov
SUMMARY:Board of Health - Cancelled
DESCRIPTION:
URL:https://barringtonhills-il.gov/event/board-of-health-10/
LOCATION:Village Hall\, 112 Algonquin Rd\, Barrington Hills\, IL\, 60010-5199
CATEGORIES:Board of Health
GEO:42.113822;-88.1818499
X-APPLE-STRUCTURED-LOCATION;VALUE=URI;X-ADDRESS=Village Hall 112 Algonquin Rd Barrington Hills IL 60010-5199;X-APPLE-RADIUS=500;X-TITLE=112 Algonquin Rd:geo:-88.1818499,42.113822
END:VEVENT
BEGIN:VEVENT
DTSTART;TZID=America/Chicago:20220210T160000
DTEND;TZID=America/Chicago:20220210T170000
DTSTAMP:20260424T073732
CREATED:20211207T162117Z
LAST-MODIFIED:20220217T224442Z
UID:12121-1644508800-1644512400@barringtonhills-il.gov
SUMMARY:Roads & Bridges Committee - Cancelled
DESCRIPTION:
URL:https://barringtonhills-il.gov/event/roads-bridges-committee-11-2022-02-10/
LOCATION:Village Hall\, 112 Algonquin Rd\, Barrington Hills\, IL\, 60010-5199
CATEGORIES:Roads & Bridges Committee
GEO:42.113822;-88.1818499
X-APPLE-STRUCTURED-LOCATION;VALUE=URI;X-ADDRESS=Village Hall 112 Algonquin Rd Barrington Hills IL 60010-5199;X-APPLE-RADIUS=500;X-TITLE=112 Algonquin Rd:geo:-88.1818499,42.113822
END:VEVENT
BEGIN:VEVENT
DTSTART;TZID=America/Chicago:20220214T183000
DTEND;TZID=America/Chicago:20220214T193000
DTSTAMP:20260424T073732
CREATED:20211207T163250Z
LAST-MODIFIED:20211207T163250Z
UID:12145-1644863400-1644867000@barringtonhills-il.gov
SUMMARY:Zoning Board of Appeals
DESCRIPTION:
URL:https://barringtonhills-il.gov/event/2022-02-21/
LOCATION:Village Hall\, 112 Algonquin Rd\, Barrington Hills\, IL\, 60010-5199
CATEGORIES:Zoning Board of Appeals
GEO:42.113822;-88.1818499
X-APPLE-STRUCTURED-LOCATION;VALUE=URI;X-ADDRESS=Village Hall 112 Algonquin Rd Barrington Hills IL 60010-5199;X-APPLE-RADIUS=500;X-TITLE=112 Algonquin Rd:geo:-88.1818499,42.113822
END:VEVENT
BEGIN:VEVENT
DTSTART;TZID=America/Chicago:20220216T160000
DTEND;TZID=America/Chicago:20220216T183000
DTSTAMP:20260424T073732
CREATED:20220131T181733Z
LAST-MODIFIED:20220131T181916Z
UID:12423-1645027200-1645036200@barringtonhills-il.gov
SUMMARY:Roads & Bridges Special Meeting
DESCRIPTION:The agenda will be posted at least 48 hours before the event and viewable via the link Meeting Packets.
URL:https://barringtonhills-il.gov/event/roads-bridges-special-meeting-4/
LOCATION:Village Hall\, 112 Algonquin Rd\, Barrington Hills\, IL\, 60010-5199
CATEGORIES:Roads & Bridges Committee
GEO:42.113822;-88.1818499
X-APPLE-STRUCTURED-LOCATION;VALUE=URI;X-ADDRESS=Village Hall 112 Algonquin Rd Barrington Hills IL 60010-5199;X-APPLE-RADIUS=500;X-TITLE=112 Algonquin Rd:geo:-88.1818499,42.113822
END:VEVENT
BEGIN:VEVENT
DTSTART;VALUE=DATE:20220221
DTEND;VALUE=DATE:20220222
DTSTAMP:20260424T073732
CREATED:20210121T215200Z
LAST-MODIFIED:20211123T215733Z
UID:12044-1645401600-1645487999@barringtonhills-il.gov
SUMMARY:VILLAGE HALL CLOSED - President's Day
DESCRIPTION:
URL:https://barringtonhills-il.gov/event/village-hall-closed-presidents-day/
LOCATION:Village Hall\, 112 Algonquin Rd\, Barrington Hills\, IL\, 60010-5199
CATEGORIES:General Events
GEO:42.113822;-88.1818499
X-APPLE-STRUCTURED-LOCATION;VALUE=URI;X-ADDRESS=Village Hall 112 Algonquin Rd Barrington Hills IL 60010-5199;X-APPLE-RADIUS=500;X-TITLE=112 Algonquin Rd:geo:-88.1818499,42.113822
END:VEVENT
BEGIN:VEVENT
DTSTART;TZID=America/Chicago:20220222T183000
DTEND;TZID=America/Chicago:20220222T183000
DTSTAMP:20260424T073732
CREATED:20211123T231528Z
LAST-MODIFIED:20211123T231625Z
UID:12076-1645554600-1645554600@barringtonhills-il.gov
SUMMARY:Board of Trustees
DESCRIPTION:
URL:https://barringtonhills-il.gov/event/board-of-trustees-15/
LOCATION:Village Hall\, 112 Algonquin Rd\, Barrington Hills\, IL\, 60010-5199
CATEGORIES:Board of Trustees
GEO:42.113822;-88.1818499
X-APPLE-STRUCTURED-LOCATION;VALUE=URI;X-ADDRESS=Village Hall 112 Algonquin Rd Barrington Hills IL 60010-5199;X-APPLE-RADIUS=500;X-TITLE=112 Algonquin Rd:geo:-88.1818499,42.113822
END:VEVENT
BEGIN:VEVENT
DTSTART;VALUE=DATE:20220301
DTEND;VALUE=DATE:20220418
DTSTAMP:20260424T073732
CREATED:20220217T222950Z
LAST-MODIFIED:20220217T222950Z
UID:12528-1646092800-1650239999@barringtonhills-il.gov
SUMMARY:CFC's Online Native Plant Sale
DESCRIPTION:Online ordering begins March 1st\n\n\nPlant Sale online ordering closes on April 17th.\n\n\nPick-up dates for on-line orders will be May 6 and 7 at the barns area of Good Shepherd Hospital\n\n\nThe in-person sale runs from May 6 – 8 at the barns area of Good Shepherd Hospital
URL:https://barringtonhills-il.gov/event/cfcs-online-native-plant-sale/
CATEGORIES:General Events
ORGANIZER;CN="Citizens for Conservation":MAILTO:cfc@citizensforconservation.org
END:VEVENT
BEGIN:VEVENT
DTSTART;TZID=America/Chicago:20220307T090000
DTEND;TZID=America/Chicago:20220317T170000
DTSTAMP:20260424T073732
CREATED:20220216T203206Z
LAST-MODIFIED:20220216T204859Z
UID:12519-1646643600-1647536400@barringtonhills-il.gov
SUMMARY:Lake County Reduced Rate Well Water Testing Kit
DESCRIPTION:In Observance of National Groundwater Awareness Week\, the Lake County Health Department is offering a reduced well water testing fee for homeowners. Pricing will be reduced from  March 7 to March 17. \nA limited number of testing kits are available at Village Hall between 9 AM – 5 PM on a first come-first served basis.  \nFor additional information\, please contact Lake County Health Department directly at 847-377-8000. 
URL:https://barringtonhills-il.gov/event/lake-county-reduced-rate-well-water-testing-kit/
LOCATION:Village Hall\, 112 Algonquin Rd\, Barrington Hills\, IL\, 60010-5199
CATEGORIES:General Events
GEO:42.113822;-88.1818499
X-APPLE-STRUCTURED-LOCATION;VALUE=URI;X-ADDRESS=Village Hall 112 Algonquin Rd Barrington Hills IL 60010-5199;X-APPLE-RADIUS=500;X-TITLE=112 Algonquin Rd:geo:-88.1818499,42.113822
END:VEVENT
BEGIN:VEVENT
DTSTART;TZID=America/Chicago:20220307T183000
DTEND;TZID=America/Chicago:20220307T193000
DTSTAMP:20260424T073732
CREATED:20211209T223811Z
LAST-MODIFIED:20220228T213227Z
UID:12182-1646677800-1646681400@barringtonhills-il.gov
SUMMARY:Equestrian Commission - Cancelled
DESCRIPTION:
URL:https://barringtonhills-il.gov/event/equestrian-commission-8/
LOCATION:Village Hall\, 112 Algonquin Rd\, Barrington Hills\, IL\, 60010-5199
CATEGORIES:Equestrian Commission
GEO:42.113822;-88.1818499
X-APPLE-STRUCTURED-LOCATION;VALUE=URI;X-ADDRESS=Village Hall 112 Algonquin Rd Barrington Hills IL 60010-5199;X-APPLE-RADIUS=500;X-TITLE=112 Algonquin Rd:geo:-88.1818499,42.113822
END:VEVENT
BEGIN:VEVENT
DTSTART;TZID=America/Chicago:20220310T160000
DTEND;TZID=America/Chicago:20220310T170000
DTSTAMP:20260424T073732
CREATED:20211207T162117Z
LAST-MODIFIED:20220307T164450Z
UID:12122-1646928000-1646931600@barringtonhills-il.gov
SUMMARY:Roads & Bridges Committee - Cancelled
DESCRIPTION:
URL:https://barringtonhills-il.gov/event/roads-bridges-committee-11-2022-03-10/
LOCATION:Village Hall\, 112 Algonquin Rd\, Barrington Hills\, IL\, 60010-5199
CATEGORIES:Roads & Bridges Committee
GEO:42.113822;-88.1818499
X-APPLE-STRUCTURED-LOCATION;VALUE=URI;X-ADDRESS=Village Hall 112 Algonquin Rd Barrington Hills IL 60010-5199;X-APPLE-RADIUS=500;X-TITLE=112 Algonquin Rd:geo:-88.1818499,42.113822
END:VEVENT
BEGIN:VEVENT
DTSTART;TZID=America/Chicago:20220312T090000
DTEND;TZID=America/Chicago:20220312T140000
DTSTAMP:20260424T073732
CREATED:20220309T153937Z
LAST-MODIFIED:20220309T153937Z
UID:12614-1647075600-1647093600@barringtonhills-il.gov
SUMMARY:BCFPD Blood Drive
DESCRIPTION:The event\, co-sponsored by Vitalant\, will take place Saturday\, March 12th\, 9:00 am – 2:00 pm\, at BCFPD Station 38 (22222 N Pepper Road\, Lake Barrington). \nTo schedule an appointment\, call 877-258-4825 or visit www.vitalant.org (use group code ORD0763A).  Walk-ins are welcome.  All donors must wear face coverings.  \n 
URL:https://barringtonhills-il.gov/event/bcfpd-blood-drive-2/
LOCATION:22222 N Pepper Rd\, Lake Barrington\, IL 60010\, USA
CATEGORIES:General Events
END:VEVENT
BEGIN:VEVENT
DTSTART;VALUE=DATE:20220313
DTEND;VALUE=DATE:20220314
DTSTAMP:20260424T073732
CREATED:20220209T154503Z
LAST-MODIFIED:20220209T154503Z
UID:12473-1647129600-1647215999@barringtonhills-il.gov
SUMMARY:Daylight Saving - Clocks Move Forward 1 Hour
DESCRIPTION:
URL:https://barringtonhills-il.gov/event/daylight-saving-clocks-move-forward-1-hour/
LOCATION:Village Hall\, 112 Algonquin Rd\, Barrington Hills\, IL\, 60010-5199
CATEGORIES:General Events
GEO:42.113822;-88.1818499
X-APPLE-STRUCTURED-LOCATION;VALUE=URI;X-ADDRESS=Village Hall 112 Algonquin Rd Barrington Hills IL 60010-5199;X-APPLE-RADIUS=500;X-TITLE=112 Algonquin Rd:geo:-88.1818499,42.113822
END:VEVENT
BEGIN:VEVENT
DTSTART;TZID=America/Chicago:20220314T183000
DTEND;TZID=America/Chicago:20220314T193000
DTSTAMP:20260424T073732
CREATED:20211207T163251Z
LAST-MODIFIED:20220308T222233Z
UID:12146-1647282600-1647286200@barringtonhills-il.gov
SUMMARY:Zoning Board of Appeals - Cancelled
DESCRIPTION:
URL:https://barringtonhills-il.gov/event/2022-03-21/
LOCATION:Village Hall\, 112 Algonquin Rd\, Barrington Hills\, IL\, 60010-5199
CATEGORIES:Zoning Board of Appeals
GEO:42.113822;-88.1818499
X-APPLE-STRUCTURED-LOCATION;VALUE=URI;X-ADDRESS=Village Hall 112 Algonquin Rd Barrington Hills IL 60010-5199;X-APPLE-RADIUS=500;X-TITLE=112 Algonquin Rd:geo:-88.1818499,42.113822
END:VEVENT
BEGIN:VEVENT
DTSTART;TZID=America/Chicago:20220318T140000
DTEND;TZID=America/Chicago:20220318T140000
DTSTAMP:20260424T073732
CREATED:20220225T171224Z
LAST-MODIFIED:20220318T163325Z
UID:12580-1647612000-1647612000@barringtonhills-il.gov
SUMMARY:2022 Road Program Bid Opening
DESCRIPTION:NOTICE is hereby given that the Village of Barrington Hills will receive sealed Bids until the 18th day of March 2022 at 2:00 p.m. local time at the Village of Barrington Hills\, 112 Algonquin Road\, Barrington Hills\, IL 60010 at which time the Bids will be publicly opened and read-aloud for the following project: \nBid Information
URL:https://barringtonhills-il.gov/event/2022-road-program-bid-opening/
LOCATION:Village Hall\, 112 Algonquin Rd\, Barrington Hills\, IL\, 60010-5199
CATEGORIES:General Events
GEO:42.113822;-88.1818499
X-APPLE-STRUCTURED-LOCATION;VALUE=URI;X-ADDRESS=Village Hall 112 Algonquin Rd Barrington Hills IL 60010-5199;X-APPLE-RADIUS=500;X-TITLE=112 Algonquin Rd:geo:-88.1818499,42.113822
END:VEVENT
BEGIN:VEVENT
DTSTART;TZID=America/Chicago:20220322T160000
DTEND;TZID=America/Chicago:20220322T170000
DTSTAMP:20260424T073732
CREATED:20220307T165423Z
LAST-MODIFIED:20220307T165423Z
UID:12611-1647964800-1647968400@barringtonhills-il.gov
SUMMARY:Roads & Bridges Special Meeting
DESCRIPTION:The agenda will be posted at least 48 hours before the event and viewable via the link Meeting Packets.
URL:https://barringtonhills-il.gov/event/roads-bridges-special-meeting-5/
LOCATION:Village Hall\, 112 Algonquin Rd\, Barrington Hills\, IL\, 60010-5199
CATEGORIES:Roads & Bridges Committee
GEO:42.113822;-88.1818499
X-APPLE-STRUCTURED-LOCATION;VALUE=URI;X-ADDRESS=Village Hall 112 Algonquin Rd Barrington Hills IL 60010-5199;X-APPLE-RADIUS=500;X-TITLE=112 Algonquin Rd:geo:-88.1818499,42.113822
END:VEVENT
BEGIN:VEVENT
DTSTART;TZID=America/Chicago:20220328T183000
DTEND;TZID=America/Chicago:20220328T183000
DTSTAMP:20260424T073732
CREATED:20211123T231747Z
LAST-MODIFIED:20211123T231747Z
UID:12075-1648492200-1648492200@barringtonhills-il.gov
SUMMARY:Board of Trustees
DESCRIPTION:
URL:https://barringtonhills-il.gov/event/board-of-trustees-16/
LOCATION:Village Hall\, 112 Algonquin Rd\, Barrington Hills\, IL\, 60010-5199
CATEGORIES:Board of Trustees
GEO:42.113822;-88.1818499
X-APPLE-STRUCTURED-LOCATION;VALUE=URI;X-ADDRESS=Village Hall 112 Algonquin Rd Barrington Hills IL 60010-5199;X-APPLE-RADIUS=500;X-TITLE=112 Algonquin Rd:geo:-88.1818499,42.113822
END:VEVENT
BEGIN:VEVENT
DTSTART;TZID=America/Chicago:20220404T183000
DTEND;TZID=America/Chicago:20220404T220000
DTSTAMP:20260424T073732
CREATED:20211206T185256Z
LAST-MODIFIED:20220330T192515Z
UID:12114-1649097000-1649109600@barringtonhills-il.gov
SUMMARY:Plan Commission - Cancelled
DESCRIPTION:The agenda and meeting material will be posted at least 48 hours before the event via the link Meeting Packets. 
URL:https://barringtonhills-il.gov/event/plan-commission-11-2022-04-04/
LOCATION:Village Hall\, 112 Algonquin Rd\, Barrington Hills\, IL\, 60010-5199
CATEGORIES:Plan Commission
GEO:42.113822;-88.1818499
X-APPLE-STRUCTURED-LOCATION;VALUE=URI;X-ADDRESS=Village Hall 112 Algonquin Rd Barrington Hills IL 60010-5199;X-APPLE-RADIUS=500;X-TITLE=112 Algonquin Rd:geo:-88.1818499,42.113822
END:VEVENT
BEGIN:VEVENT
DTSTART;TZID=America/Chicago:20220407T160000
DTEND;TZID=America/Chicago:20220407T170000
DTSTAMP:20260424T073732
CREATED:20211207T162117Z
LAST-MODIFIED:20211207T162455Z
UID:12123-1649347200-1649350800@barringtonhills-il.gov
SUMMARY:Roads & Bridges Committee
DESCRIPTION:
URL:https://barringtonhills-il.gov/event/2022-04-14/
LOCATION:Village Hall\, 112 Algonquin Rd\, Barrington Hills\, IL\, 60010-5199
CATEGORIES:Roads & Bridges Committee
GEO:42.113822;-88.1818499
X-APPLE-STRUCTURED-LOCATION;VALUE=URI;X-ADDRESS=Village Hall 112 Algonquin Rd Barrington Hills IL 60010-5199;X-APPLE-RADIUS=500;X-TITLE=112 Algonquin Rd:geo:-88.1818499,42.113822
END:VEVENT
BEGIN:VEVENT
DTSTART;TZID=America/Chicago:20220409T080000
DTEND;TZID=America/Chicago:20220409T120000
DTSTAMP:20260424T073732
CREATED:20220407T192102Z
LAST-MODIFIED:20220407T192102Z
UID:12716-1649491200-1649505600@barringtonhills-il.gov
SUMMARY:Cuba Township Document Shred Event
DESCRIPTION:ATTENTION CUBA TOWNSHIP RESIDENTS:\n\n\nDocument shredding event Saturday\, April 9th from 8:00 AM to Noon (or until the truck is full) at the Cuba Township Road District office:\n28000 W. Cuba Road.\n \nPlease use paper grocery bags. There is a limit of 4 bags per household.
URL:https://barringtonhills-il.gov/event/cuba-township-document-shred-event/
LOCATION:Cuba Township Road District\, 28000 W. Cuba Road\, Barrington\, IL\, 60010\, United States
CATEGORIES:General Events
GEO:42.1765488;-88.1803367
X-APPLE-STRUCTURED-LOCATION;VALUE=URI;X-ADDRESS=Cuba Township Road District 28000 W. Cuba Road Barrington IL 60010 United States;X-APPLE-RADIUS=500;X-TITLE=28000 W. Cuba Road:geo:-88.1803367,42.1765488
END:VEVENT
END:VCALENDAR