BEGIN:VCALENDAR
VERSION:2.0
PRODID:-//Village of Barrington Hills - ECPv6.15.15//NONSGML v1.0//EN
CALSCALE:GREGORIAN
METHOD:PUBLISH
X-ORIGINAL-URL:https://barringtonhills-il.gov
X-WR-CALDESC:Events for Village of Barrington Hills
REFRESH-INTERVAL;VALUE=DURATION:PT1H
X-Robots-Tag:noindex
X-PUBLISHED-TTL:PT1H
BEGIN:VTIMEZONE
TZID:America/Chicago
BEGIN:DAYLIGHT
TZOFFSETFROM:-0600
TZOFFSETTO:-0500
TZNAME:CDT
DTSTART:20220313T080000
END:DAYLIGHT
BEGIN:STANDARD
TZOFFSETFROM:-0500
TZOFFSETTO:-0600
TZNAME:CST
DTSTART:20221106T070000
END:STANDARD
BEGIN:DAYLIGHT
TZOFFSETFROM:-0600
TZOFFSETTO:-0500
TZNAME:CDT
DTSTART:20230312T080000
END:DAYLIGHT
BEGIN:STANDARD
TZOFFSETFROM:-0500
TZOFFSETTO:-0600
TZNAME:CST
DTSTART:20231105T070000
END:STANDARD
BEGIN:DAYLIGHT
TZOFFSETFROM:-0600
TZOFFSETTO:-0500
TZNAME:CDT
DTSTART:20240310T080000
END:DAYLIGHT
BEGIN:STANDARD
TZOFFSETFROM:-0500
TZOFFSETTO:-0600
TZNAME:CST
DTSTART:20241103T070000
END:STANDARD
END:VTIMEZONE
BEGIN:VEVENT
DTSTART;TZID=America/Chicago:20230605T183000
DTEND;TZID=America/Chicago:20230605T190000
DTSTAMP:20260420T031901
CREATED:20221129T172300Z
LAST-MODIFIED:20230601T150412Z
UID:13901-1685989800-1685991600@barringtonhills-il.gov
SUMMARY:Equestrian Commission Meeting - Cancelled
DESCRIPTION:The agenda will be posted at least 48 hours before the event.
URL:https://barringtonhills-il.gov/event/equestrian-commission-meeting-7-2023-06-05/
LOCATION:Village Hall\, 112 Algonquin Rd\, Barrington Hills\, IL\, 60010-5199
CATEGORIES:Equestrian Commission
GEO:42.113822;-88.1818499
X-APPLE-STRUCTURED-LOCATION;VALUE=URI;X-ADDRESS=Village Hall 112 Algonquin Rd Barrington Hills IL 60010-5199;X-APPLE-RADIUS=500;X-TITLE=112 Algonquin Rd:geo:-88.1818499,42.113822
END:VEVENT
BEGIN:VEVENT
DTSTART;VALUE=DATE:20230612
DTEND;VALUE=DATE:20230624
DTSTAMP:20260420T031901
CREATED:20230526T185652Z
LAST-MODIFIED:20230526T185652Z
UID:14477-1686528000-1687564799@barringtonhills-il.gov
SUMMARY:Main Street RR Crossing Closed for Repairs
DESCRIPTION:The Union Pacific Railroad has repairs scheduled for the Metra rail crossing located on Main Street which requires full closure of the Main Street crossing.\n \nThe repairs are being managed directly by Union Pacific and are scheduled to begin on 6/12/23 at 9:00 AM and end on 6/23/23 at 5:00 PM. Detour routes will be signed and in place during this time.  Follow the link below for a detour map.\n \n 
URL:https://barringtonhills-il.gov/event/main-street-rr-crossing-closed-for-repairs/
CATEGORIES:General Events
ATTACH;FMTTYPE=image/jpeg:https://barringtonhills-il.gov/wp-content/uploads/2023/05/Main-St-RR-closing-june-2023-scaled.jpg
END:VEVENT
BEGIN:VEVENT
DTSTART;TZID=America/Chicago:20230612T183000
DTEND;TZID=America/Chicago:20230612T183000
DTSTAMP:20260420T031901
CREATED:20221129T162902Z
LAST-MODIFIED:20230609T152438Z
UID:13841-1686594600-1686594600@barringtonhills-il.gov
SUMMARY:Zoning Board of Appeals Meeting
DESCRIPTION:The agenda will be posted at least 48 hours before the event.
URL:https://barringtonhills-il.gov/event/zoning-board-of-appeals-meeting-5-2023-06-19/
LOCATION:Village Hall\, 112 Algonquin Rd\, Barrington Hills\, IL\, 60010-5199
CATEGORIES:Zoning Board of Appeals
GEO:42.113822;-88.1818499
X-APPLE-STRUCTURED-LOCATION;VALUE=URI;X-ADDRESS=Village Hall 112 Algonquin Rd Barrington Hills IL 60010-5199;X-APPLE-RADIUS=500;X-TITLE=112 Algonquin Rd:geo:-88.1818499,42.113822
END:VEVENT
BEGIN:VEVENT
DTSTART;TZID=America/Chicago:20230620T183000
DTEND;TZID=America/Chicago:20230620T183000
DTSTAMP:20260420T031901
CREATED:20230608T202914Z
LAST-MODIFIED:20230608T202914Z
UID:14512-1687285800-1687285800@barringtonhills-il.gov
SUMMARY:Neighborhood Crime Prevention & Safety Meeting
DESCRIPTION:Summertime beckons ruse burglaries and other crimes. Don’t be a victim and protect yourself with knowledge!\nAttend Barrington Hills Police Department’s Crime Prevention & Safety Meeting! \nTuesday\, June 20 at 6:30 PM\nVillage of Barrington Hills\nVillage Hall | MacArthur Room\n112 Algonquin Road\nCrime Prevention Meeting \nYOU DON’T HAVE TO BE A RESIDENT TO ATTEND. BRING A FRIEND!\nWe kindly ask for an RSVP\, but not necessary: crimeprevention@vbhpd.net. \nMore information at vbhpd.net/view/crime-prevention/
URL:https://barringtonhills-il.gov/event/neighborhood-crime-prevention-safety-meeting/
LOCATION:Village Hall\, 112 Algonquin Rd\, Barrington Hills\, IL\, 60010-5199
CATEGORIES:General Events
ATTACH;FMTTYPE=image/jpeg:https://barringtonhills-il.gov/wp-content/uploads/2023/06/Ruse-meeting-6-20-23.jpg
ORGANIZER;CN="Barrington Hills Police Department":MAILTO:records@vbhpd.net
GEO:42.113822;-88.1818499
X-APPLE-STRUCTURED-LOCATION;VALUE=URI;X-ADDRESS=Village Hall 112 Algonquin Rd Barrington Hills IL 60010-5199;X-APPLE-RADIUS=500;X-TITLE=112 Algonquin Rd:geo:-88.1818499,42.113822
END:VEVENT
BEGIN:VEVENT
DTSTART;TZID=America/Chicago:20230701T073000
DTEND;TZID=America/Chicago:20230701T100000
DTSTAMP:20260420T031901
CREATED:20221129T184405Z
LAST-MODIFIED:20221129T184913Z
UID:13915-1688196600-1688205600@barringtonhills-il.gov
SUMMARY:The Land We Love Run - 5/10K walk/run
DESCRIPTION:Details will be posted closer to the event. \n  \n**Information posted here is subject to change without prior notice.
URL:https://barringtonhills-il.gov/event/the-lane-we-love-run-5-10k-walk-run/
LOCATION:Cuba Township Office\, 28000 W. Cuba Road\, Barrington\, IL\, 60010\, United States
CATEGORIES:General Events
GEO:42.1765488;-88.1803367
X-APPLE-STRUCTURED-LOCATION;VALUE=URI;X-ADDRESS=Cuba Township Office 28000 W. Cuba Road Barrington IL 60010 United States;X-APPLE-RADIUS=500;X-TITLE=28000 W. Cuba Road:geo:-88.1803367,42.1765488
END:VEVENT
BEGIN:VEVENT
DTSTART;TZID=America/Chicago:20230710T183000
DTEND;TZID=America/Chicago:20230710T193000
DTSTAMP:20260420T031901
CREATED:20221027T212056Z
LAST-MODIFIED:20230705T192139Z
UID:13851-1689013800-1689017400@barringtonhills-il.gov
SUMMARY:Plan Commission-Cancelled
DESCRIPTION:
URL:https://barringtonhills-il.gov/event/2023-07-03/
LOCATION:Village Hall\, 112 Algonquin Rd\, Barrington Hills\, IL\, 60010-5199
CATEGORIES:Plan Commission
GEO:42.113822;-88.1818499
X-APPLE-STRUCTURED-LOCATION;VALUE=URI;X-ADDRESS=Village Hall 112 Algonquin Rd Barrington Hills IL 60010-5199;X-APPLE-RADIUS=500;X-TITLE=112 Algonquin Rd:geo:-88.1818499,42.113822
END:VEVENT
BEGIN:VEVENT
DTSTART;TZID=America/Chicago:20230713T183000
DTEND;TZID=America/Chicago:20230713T183000
DTSTAMP:20260420T031901
CREATED:20230712T204716Z
LAST-MODIFIED:20230712T204716Z
UID:14857-1689273000-1689273000@barringtonhills-il.gov
SUMMARY:Resident Crime Prevention & Safety Meeting
DESCRIPTION:Ruse burglaries spike in the summer. Avoid being a victim.  \nThe Police Department will host a resident crime prevention and safety meeting in the Village Hall on Thursday\, July 13\, 2023\, at 6:30 PM.  Topics to be discussed include ruse burglaries and other common summertime crimes.  If possible\, please RSVP the number of attendees in your group to crimeprevention@vbhpd.net\, so that we can prepare for the approximate number of guests. \nThe event is open to non-Barrington Hills residents. Bring a friend!
URL:https://barringtonhills-il.gov/event/resident-crime-prevention-safety-meeting/
LOCATION:Village Hall\, 112 Algonquin Rd\, Barrington Hills\, IL\, 60010-5199
CATEGORIES:General Events
ATTACH;FMTTYPE=image/png:https://barringtonhills-il.gov/wp-content/uploads/2023/06/Crime-prevention.png
ORGANIZER;CN="Barrington Hills Police Department":MAILTO:records@vbhpd.net
GEO:42.113822;-88.1818499
X-APPLE-STRUCTURED-LOCATION;VALUE=URI;X-ADDRESS=Village Hall 112 Algonquin Rd Barrington Hills IL 60010-5199;X-APPLE-RADIUS=500;X-TITLE=112 Algonquin Rd:geo:-88.1818499,42.113822
END:VEVENT
BEGIN:VEVENT
DTSTART;TZID=America/Chicago:20230717T183000
DTEND;TZID=America/Chicago:20230717T193000
DTSTAMP:20260420T031901
CREATED:20221129T162902Z
LAST-MODIFIED:20230713T152918Z
UID:13842-1689618600-1689622200@barringtonhills-il.gov
SUMMARY:Zoning Board of Appeals Meeting - Cancelled
DESCRIPTION:The agenda will be posted at least 48 hours before the event.
URL:https://barringtonhills-il.gov/event/zoning-board-of-appeals-meeting-5-2023-07-17/
LOCATION:Village Hall\, 112 Algonquin Rd\, Barrington Hills\, IL\, 60010-5199
CATEGORIES:Zoning Board of Appeals
GEO:42.113822;-88.1818499
X-APPLE-STRUCTURED-LOCATION;VALUE=URI;X-ADDRESS=Village Hall 112 Algonquin Rd Barrington Hills IL 60010-5199;X-APPLE-RADIUS=500;X-TITLE=112 Algonquin Rd:geo:-88.1818499,42.113822
END:VEVENT
BEGIN:VEVENT
DTSTART;TZID=America/Chicago:20230722T090000
DTEND;TZID=America/Chicago:20230722T120000
DTSTAMP:20260420T031901
CREATED:20230714T151143Z
LAST-MODIFIED:20230714T151257Z
UID:14860-1690016400-1690027200@barringtonhills-il.gov
SUMMARY:McHenry County Residential Recycling Event
DESCRIPTION:Document shredding and electronic recycling event.  Some fees apply.  \nCheck out what items are accepted Get the details at: mchenrycountyil.gov/Home/Components/Calendar/Event/35066/5101
URL:https://barringtonhills-il.gov/event/mchenry-county-residential-recycling-event/
LOCATION:MHenry County Administration Building\, 667 Ware Road\, 2nd Floor Conference Rooms\, Woodstock\, IL\, 60098\, United States
CATEGORIES:General Events
ATTACH;FMTTYPE=image/jpeg:https://barringtonhills-il.gov/wp-content/uploads/2023/07/722-event.jpg
GEO:42.3425319;-88.4405398
X-APPLE-STRUCTURED-LOCATION;VALUE=URI;X-ADDRESS=MHenry County Administration Building 667 Ware Road 2nd Floor Conference Rooms Woodstock IL 60098 United States;X-APPLE-RADIUS=500;X-TITLE=667 Ware Road\, 2nd Floor Conference Rooms:geo:-88.4405398,42.3425319
END:VEVENT
BEGIN:VEVENT
DTSTART;TZID=America/Chicago:20230724T100000
DTEND;TZID=America/Chicago:20230724T100000
DTSTAMP:20260420T031901
CREATED:20230711T174453Z
LAST-MODIFIED:20230711T182412Z
UID:14854-1690192800-1690192800@barringtonhills-il.gov
SUMMARY:Finance Committee Meeting
DESCRIPTION:The agenda will be posted at least 48 hours before the event and viewable via the link Meeting Packets.
URL:https://barringtonhills-il.gov/event/finance-committee-meeting-18/
LOCATION:Village Hall\, 112 Algonquin Rd\, Barrington Hills\, IL\, 60010-5199
CATEGORIES:Finance Committee
GEO:42.113822;-88.1818499
X-APPLE-STRUCTURED-LOCATION;VALUE=URI;X-ADDRESS=Village Hall 112 Algonquin Rd Barrington Hills IL 60010-5199;X-APPLE-RADIUS=500;X-TITLE=112 Algonquin Rd:geo:-88.1818499,42.113822
END:VEVENT
BEGIN:VEVENT
DTSTART;TZID=America/Chicago:20230801T183000
DTEND;TZID=America/Chicago:20230801T193000
DTSTAMP:20260420T031901
CREATED:20221221T183215Z
LAST-MODIFIED:20230725T193625Z
UID:13974-1690914600-1690918200@barringtonhills-il.gov
SUMMARY:Board of Health Meeting-cancelled
DESCRIPTION:
URL:https://barringtonhills-il.gov/event/board-of-health-meeting-7/
LOCATION:Village Hall\, 112 Algonquin Rd\, Barrington Hills\, IL\, 60010-5199
CATEGORIES:Board of Health
GEO:42.113822;-88.1818499
X-APPLE-STRUCTURED-LOCATION;VALUE=URI;X-ADDRESS=Village Hall 112 Algonquin Rd Barrington Hills IL 60010-5199;X-APPLE-RADIUS=500;X-TITLE=112 Algonquin Rd:geo:-88.1818499,42.113822
END:VEVENT
BEGIN:VEVENT
DTSTART;VALUE=DATE:20230815
DTEND;VALUE=DATE:20230816
DTSTAMP:20260420T031901
CREATED:20230816T202327Z
LAST-MODIFIED:20230816T203908Z
UID:14900-1692057600-1692143999@barringtonhills-il.gov
SUMMARY:District 300 First Day of School
DESCRIPTION:MAKE IT A GREAT YEAR! \n“Tell me and I forget. Teach me and I remember.  Involve me and I learn.” –Benjamin Franklin \n  \n 
URL:https://barringtonhills-il.gov/event/d300-algonquin-lakes-elementarys-first-day-of-school/
LOCATION:IL
CATEGORIES:General Events
GEO:40.6331249;-89.3985283
END:VEVENT
BEGIN:VEVENT
DTSTART;VALUE=DATE:20230816
DTEND;VALUE=DATE:20230817
DTSTAMP:20260420T031901
CREATED:20230816T203139Z
LAST-MODIFIED:20230816T203139Z
UID:14903-1692144000-1692230399@barringtonhills-il.gov
SUMMARY:St. Anne Parish School First Day of School: Grades 2-8
DESCRIPTION:MAKE IT A GREAT YEAR! \n“Tell me and I forget. Teach me and I remember.  Involve me and I learn.” –Benjamin Franklin
URL:https://barringtonhills-il.gov/event/st-anne-parish-school-first-day-of-school-grades-2-8/
CATEGORIES:General Events
END:VEVENT
BEGIN:VEVENT
DTSTART;VALUE=DATE:20230821
DTEND;VALUE=DATE:20230822
DTSTAMP:20260420T031901
CREATED:20230816T202735Z
LAST-MODIFIED:20230816T202735Z
UID:14901-1692576000-1692662399@barringtonhills-il.gov
SUMMARY:District 220 First Day of School: Grades 1-12
DESCRIPTION:MAKE IT A GREAT YEAR! \n“Tell me and I forget. Teach me and I remember.  Involve me and I learn.” –Benjamin Franklin
URL:https://barringtonhills-il.gov/event/district-220-first-day-of-school-grades-1-12/
CATEGORIES:General Events
END:VEVENT
BEGIN:VEVENT
DTSTART;VALUE=DATE:20230821
DTEND;VALUE=DATE:20230822
DTSTAMP:20260420T031901
CREATED:20230816T203243Z
LAST-MODIFIED:20230816T203326Z
UID:14904-1692576000-1692662399@barringtonhills-il.gov
SUMMARY:St. Anne Parish First Day of School: Kindergarten & First Grade
DESCRIPTION:
URL:https://barringtonhills-il.gov/event/st-anne-parish-first-day-of-school-kindergarten-first-grade/
CATEGORIES:General Events
END:VEVENT
BEGIN:VEVENT
DTSTART;TZID=America/Chicago:20230821T183000
DTEND;TZID=America/Chicago:20230821T193000
DTSTAMP:20260420T031901
CREATED:20221129T162903Z
LAST-MODIFIED:20230816T215926Z
UID:13843-1692642600-1692646200@barringtonhills-il.gov
SUMMARY:Zoning Board of Appeals Meeting - Cancelled
DESCRIPTION:The agenda will be posted at least 48 hours before the event.
URL:https://barringtonhills-il.gov/event/zoning-board-of-appeals-meeting-5-2023-08-21/
LOCATION:Village Hall\, 112 Algonquin Rd\, Barrington Hills\, IL\, 60010-5199
CATEGORIES:Zoning Board of Appeals
GEO:42.113822;-88.1818499
X-APPLE-STRUCTURED-LOCATION;VALUE=URI;X-ADDRESS=Village Hall 112 Algonquin Rd Barrington Hills IL 60010-5199;X-APPLE-RADIUS=500;X-TITLE=112 Algonquin Rd:geo:-88.1818499,42.113822
END:VEVENT
BEGIN:VEVENT
DTSTART;VALUE=DATE:20230823
DTEND;VALUE=DATE:20230824
DTSTAMP:20260420T031901
CREATED:20230816T202840Z
LAST-MODIFIED:20230816T203812Z
UID:14902-1692748800-1692835199@barringtonhills-il.gov
SUMMARY:District 220 First Day of School: Early Learning Center & Kindergarten
DESCRIPTION:MAKE IT A GREAT YEAR! \n“Tell me and I forget. Teach me and I remember.  Involve me and I learn.” –Benjamin Franklin
URL:https://barringtonhills-il.gov/event/district-220-first-day-of-school-early-learning-center-kindergarten/
LOCATION:IL
CATEGORIES:General Events
GEO:40.6331249;-89.3985283
END:VEVENT
BEGIN:VEVENT
DTSTART;VALUE=DATE:20230824
DTEND;VALUE=DATE:20230825
DTSTAMP:20260420T031901
CREATED:20230816T203642Z
LAST-MODIFIED:20230816T203642Z
UID:14905-1692835200-1692921599@barringtonhills-il.gov
SUMMARY:Elgin Academy First Day of School
DESCRIPTION:MAKE IT A GREAT YEAR! \n“Tell me and I forget. Teach me and I remember.  Involve me and I learn.” –Benjamin Franklin
URL:https://barringtonhills-il.gov/event/elgin-academy-first-day-of-school-2/
CATEGORIES:General Events
END:VEVENT
BEGIN:VEVENT
DTSTART;VALUE=DATE:20230904
DTEND;VALUE=DATE:20230905
DTSTAMP:20260420T031901
CREATED:20221220T225817Z
LAST-MODIFIED:20221220T225817Z
UID:13965-1693785600-1693871999@barringtonhills-il.gov
SUMMARY:VILLAGE HALL CLOSED - Labor Day
DESCRIPTION:
URL:https://barringtonhills-il.gov/event/village-hall-closed-labor-day-4/
LOCATION:Village Hall\, 112 Algonquin Rd\, Barrington Hills\, IL\, 60010-5199
CATEGORIES:General Events
GEO:42.113822;-88.1818499
X-APPLE-STRUCTURED-LOCATION;VALUE=URI;X-ADDRESS=Village Hall 112 Algonquin Rd Barrington Hills IL 60010-5199;X-APPLE-RADIUS=500;X-TITLE=112 Algonquin Rd:geo:-88.1818499,42.113822
END:VEVENT
BEGIN:VEVENT
DTSTART;TZID=America/Chicago:20230912T183000
DTEND;TZID=America/Chicago:20230912T190000
DTSTAMP:20260420T031901
CREATED:20221129T172300Z
LAST-MODIFIED:20230912T201217Z
UID:13902-1694543400-1694545200@barringtonhills-il.gov
SUMMARY:Equestrian Commission Meeting - Cancelled
DESCRIPTION:The agenda will be posted at least 48 hours before the event.
URL:https://barringtonhills-il.gov/event/equestrian-commission-meeting-7-2023-09-04/
LOCATION:Village Hall\, 112 Algonquin Rd\, Barrington Hills\, IL\, 60010-5199
CATEGORIES:Equestrian Commission
GEO:42.113822;-88.1818499
X-APPLE-STRUCTURED-LOCATION;VALUE=URI;X-ADDRESS=Village Hall 112 Algonquin Rd Barrington Hills IL 60010-5199;X-APPLE-RADIUS=500;X-TITLE=112 Algonquin Rd:geo:-88.1818499,42.113822
END:VEVENT
BEGIN:VEVENT
DTSTART;TZID=America/Chicago:20230913T173000
DTEND;TZID=America/Chicago:20230913T200000
DTSTAMP:20260420T031901
CREATED:20230808T223033Z
LAST-MODIFIED:20230808T223239Z
UID:14889-1694626200-1694635200@barringtonhills-il.gov
SUMMARY:McHenry County Water Forum
DESCRIPTION:
URL:https://barringtonhills-il.gov/event/mchenry-county-water-forum-2/
LOCATION:McHenry County College\, United States
CATEGORIES:General Events
END:VEVENT
BEGIN:VEVENT
DTSTART;TZID=America/Chicago:20230914T160000
DTEND;TZID=America/Chicago:20230914T170000
DTSTAMP:20260420T031901
CREATED:20221129T181801Z
LAST-MODIFIED:20230913T171713Z
UID:13911-1694707200-1694710800@barringtonhills-il.gov
SUMMARY:Roads & Bridges Meeting - Cancelled
DESCRIPTION:The agenda will be posted at least 48 hours before the event.
URL:https://barringtonhills-il.gov/event/roads-bridges-meeting-2023-09-21/
LOCATION:Village Hall\, 112 Algonquin Rd\, Barrington Hills\, IL\, 60010-5199
CATEGORIES:Roads & Bridges Committee
GEO:42.113822;-88.1818499
X-APPLE-STRUCTURED-LOCATION;VALUE=URI;X-ADDRESS=Village Hall 112 Algonquin Rd Barrington Hills IL 60010-5199;X-APPLE-RADIUS=500;X-TITLE=112 Algonquin Rd:geo:-88.1818499,42.113822
END:VEVENT
BEGIN:VEVENT
DTSTART;TZID=America/Chicago:20230917T120000
DTEND;TZID=America/Chicago:20230917T160000
DTSTAMP:20260420T031901
CREATED:20221129T184620Z
LAST-MODIFIED:20221129T184620Z
UID:13916-1694952000-1694966400@barringtonhills-il.gov
SUMMARY:Barrington Hills Fall Festival
DESCRIPTION:Details will be posted closer to the event. \n  \n**Information posted here may be subject to change without prior notice.
URL:https://barringtonhills-il.gov/event/barrington-hills-fall-festival-2/
LOCATION:Barrington Hills Park District Riding Center\, 361 Bateman Rd\, Barrington Hills\, IL\, United States
CATEGORIES:General Events
END:VEVENT
BEGIN:VEVENT
DTSTART;TZID=America/Chicago:20230918T183000
DTEND;TZID=America/Chicago:20230918T183000
DTSTAMP:20260420T031901
CREATED:20230914T203825Z
LAST-MODIFIED:20230914T203825Z
UID:15138-1695061800-1695061800@barringtonhills-il.gov
SUMMARY:Equestrian Commission Special Meeting - Cancelled
DESCRIPTION:
URL:https://barringtonhills-il.gov/event/equestrian-commission-special-meeting-cancelled/
LOCATION:Village Hall\, 112 Algonquin Rd\, Barrington Hills\, IL\, 60010-5199
CATEGORIES:Equestrian Commission
GEO:42.113822;-88.1818499
X-APPLE-STRUCTURED-LOCATION;VALUE=URI;X-ADDRESS=Village Hall 112 Algonquin Rd Barrington Hills IL 60010-5199;X-APPLE-RADIUS=500;X-TITLE=112 Algonquin Rd:geo:-88.1818499,42.113822
END:VEVENT
BEGIN:VEVENT
DTSTART;TZID=America/Chicago:20230919T183000
DTEND;TZID=America/Chicago:20230919T193000
DTSTAMP:20260420T031901
CREATED:20221129T162903Z
LAST-MODIFIED:20230913T171428Z
UID:13844-1695148200-1695151800@barringtonhills-il.gov
SUMMARY:Zoning Board of Appeals Meeting - Cancelled
DESCRIPTION:The agenda will be posted at least 48 hours before the event.
URL:https://barringtonhills-il.gov/event/zoning-board-of-appeals-meeting-5-2023-09-18/
LOCATION:Village Hall\, 112 Algonquin Rd\, Barrington Hills\, IL\, 60010-5199
CATEGORIES:Zoning Board of Appeals
GEO:42.113822;-88.1818499
X-APPLE-STRUCTURED-LOCATION;VALUE=URI;X-ADDRESS=Village Hall 112 Algonquin Rd Barrington Hills IL 60010-5199;X-APPLE-RADIUS=500;X-TITLE=112 Algonquin Rd:geo:-88.1818499,42.113822
END:VEVENT
BEGIN:VEVENT
DTSTART;TZID=America/Chicago:20230920T160000
DTEND;TZID=America/Chicago:20230920T160000
DTSTAMP:20260420T031901
CREATED:20230913T171951Z
LAST-MODIFIED:20230913T172808Z
UID:15137-1695225600-1695225600@barringtonhills-il.gov
SUMMARY:Roads & Bridges Special Meeting
DESCRIPTION:The agenda and meeting packet will be posted at least 48 hours before the meeting and viewable via the link Meeting Packets.
URL:https://barringtonhills-il.gov/event/roads-bridges-specia-meeting/
LOCATION:Village Hall\, 112 Algonquin Rd\, Barrington Hills\, IL\, 60010-5199
CATEGORIES:Roads & Bridges Committee
GEO:42.113822;-88.1818499
X-APPLE-STRUCTURED-LOCATION;VALUE=URI;X-ADDRESS=Village Hall 112 Algonquin Rd Barrington Hills IL 60010-5199;X-APPLE-RADIUS=500;X-TITLE=112 Algonquin Rd:geo:-88.1818499,42.113822
END:VEVENT
BEGIN:VEVENT
DTSTART;VALUE=DATE:20231002
DTEND;VALUE=DATE:20231011
DTSTAMP:20260420T031901
CREATED:20230919T184637Z
LAST-MODIFIED:20230919T184637Z
UID:15164-1696204800-1696982399@barringtonhills-il.gov
SUMMARY:Purchase Well Water Testing Kits
DESCRIPTION:Pick up BACOG’s annual private well water testing kits at Village Hall between October 2nd through October 10th. \nPayment only in the following forms: \n\nExact cash of $16 or\nChecks payable to Lake County Health Department.\n\nSample Drop Off\nWednesday\, October 11\, 11 AM-6:30 PM\nBarrington Area Library\n505 N. Northwest Highway \nAvailable to residents of BACOG communities (Barrington Hills\, Barrington Township\, Deer Park\, Lake Barrington\, South Barrington and Tower Lakes ).
URL:https://barringtonhills-il.gov/event/purchase-well-water-testing-kits/
LOCATION:Village Hall\, 112 Algonquin Rd\, Barrington Hills\, IL\, 60010-5199
CATEGORIES:General Events
ATTACH;FMTTYPE=image/jpeg:https://barringtonhills-il.gov/wp-content/uploads/2023/09/BACOG-water-testing.jpg
GEO:42.113822;-88.1818499
X-APPLE-STRUCTURED-LOCATION;VALUE=URI;X-ADDRESS=Village Hall 112 Algonquin Rd Barrington Hills IL 60010-5199;X-APPLE-RADIUS=500;X-TITLE=112 Algonquin Rd:geo:-88.1818499,42.113822
END:VEVENT
BEGIN:VEVENT
DTSTART;TZID=America/Chicago:20231002T183000
DTEND;TZID=America/Chicago:20231002T193000
DTSTAMP:20260420T031901
CREATED:20221129T162953Z
LAST-MODIFIED:20230926T204628Z
UID:13852-1696271400-1696275000@barringtonhills-il.gov
SUMMARY:Plan Commission - Cancelled
DESCRIPTION:The agenda will be posted at least 48 hours before the event.
URL:https://barringtonhills-il.gov/event/plan-commission-12-2023-10-02/
LOCATION:Village Hall\, 112 Algonquin Rd\, Barrington Hills\, IL\, 60010-5199
CATEGORIES:Plan Commission
GEO:42.113822;-88.1818499
X-APPLE-STRUCTURED-LOCATION;VALUE=URI;X-ADDRESS=Village Hall 112 Algonquin Rd Barrington Hills IL 60010-5199;X-APPLE-RADIUS=500;X-TITLE=112 Algonquin Rd:geo:-88.1818499,42.113822
END:VEVENT
BEGIN:VEVENT
DTSTART;TZID=America/Chicago:20231011T110000
DTEND;TZID=America/Chicago:20231011T183000
DTSTAMP:20260420T031901
CREATED:20230711T180555Z
LAST-MODIFIED:20230711T180555Z
UID:14856-1697022000-1697049000@barringtonhills-il.gov
SUMMARY:BACOG Private Well Water Testing Event
DESCRIPTION:Purchase water testing kits from October 2 – 10 at Barrington Hills Village Hall during regular office hours.\n \nHouseholds with private wells are advised to test for bacteria and nitrates on an annual basis to detect these invisible\, odorless contaminants. Bacteria and nitrates can result from animal\, insect or human waste or fertilizers reaching the well water and can cause illness in humans.\n \nOn October 11\, residents may drop off their water sample kits at the BACOG Event at the Barrington Area Library anytime between the hours of 11:00am and 6:30pm. Participants will park in the Library lot and come into the building. \n \nAlthough primarily a drop-off event\, several Community Partners will be there with information and take-aways\, along with the Lake County Health Department Staff\, who will be available to residents for water testing questions. Test results will be emailed to homeowners within two weeks. Any homeowner with positive results for bacteria or elevated nitrate levels will be contacted within 48 hours by the Lake County Health Department.
URL:https://barringtonhills-il.gov/event/bacog-private-well-water-testing-event-2/
LOCATION:Barrington Area Library\, 505 N Northwest Hwy\, Barrington\, IL\, 60010\, United States
CATEGORIES:General Events
GEO:42.1593535;-88.1276169
X-APPLE-STRUCTURED-LOCATION;VALUE=URI;X-ADDRESS=Barrington Area Library 505 N Northwest Hwy Barrington IL 60010 United States;X-APPLE-RADIUS=500;X-TITLE=505 N Northwest Hwy:geo:-88.1276169,42.1593535
END:VEVENT
BEGIN:VEVENT
DTSTART;TZID=America/Chicago:20231012T160000
DTEND;TZID=America/Chicago:20231012T170000
DTSTAMP:20260420T031901
CREATED:20221129T181801Z
LAST-MODIFIED:20231004T165549Z
UID:13912-1697126400-1697130000@barringtonhills-il.gov
SUMMARY:Roads & Bridges Meeting - Cancelled
DESCRIPTION:The agenda will be posted at least 48 hours before the event.
URL:https://barringtonhills-il.gov/event/roads-bridges-meeting-2023-10-19/
LOCATION:Village Hall\, 112 Algonquin Rd\, Barrington Hills\, IL\, 60010-5199
CATEGORIES:Roads & Bridges Committee
GEO:42.113822;-88.1818499
X-APPLE-STRUCTURED-LOCATION;VALUE=URI;X-ADDRESS=Village Hall 112 Algonquin Rd Barrington Hills IL 60010-5199;X-APPLE-RADIUS=500;X-TITLE=112 Algonquin Rd:geo:-88.1818499,42.113822
END:VEVENT
END:VCALENDAR