BEGIN:VCALENDAR
VERSION:2.0
PRODID:-//Village of Barrington Hills - ECPv6.15.15//NONSGML v1.0//EN
CALSCALE:GREGORIAN
METHOD:PUBLISH
X-ORIGINAL-URL:https://barringtonhills-il.gov
X-WR-CALDESC:Events for Village of Barrington Hills
REFRESH-INTERVAL;VALUE=DURATION:PT1H
X-Robots-Tag:noindex
X-PUBLISHED-TTL:PT1H
BEGIN:VTIMEZONE
TZID:America/Chicago
BEGIN:DAYLIGHT
TZOFFSETFROM:-0600
TZOFFSETTO:-0500
TZNAME:CDT
DTSTART:20220313T080000
END:DAYLIGHT
BEGIN:STANDARD
TZOFFSETFROM:-0500
TZOFFSETTO:-0600
TZNAME:CST
DTSTART:20221106T070000
END:STANDARD
BEGIN:DAYLIGHT
TZOFFSETFROM:-0600
TZOFFSETTO:-0500
TZNAME:CDT
DTSTART:20230312T080000
END:DAYLIGHT
BEGIN:STANDARD
TZOFFSETFROM:-0500
TZOFFSETTO:-0600
TZNAME:CST
DTSTART:20231105T070000
END:STANDARD
BEGIN:DAYLIGHT
TZOFFSETFROM:-0600
TZOFFSETTO:-0500
TZNAME:CDT
DTSTART:20240310T080000
END:DAYLIGHT
BEGIN:STANDARD
TZOFFSETFROM:-0500
TZOFFSETTO:-0600
TZNAME:CST
DTSTART:20241103T070000
END:STANDARD
BEGIN:DAYLIGHT
TZOFFSETFROM:-0600
TZOFFSETTO:-0500
TZNAME:CDT
DTSTART:20250309T080000
END:DAYLIGHT
BEGIN:STANDARD
TZOFFSETFROM:-0500
TZOFFSETTO:-0600
TZNAME:CST
DTSTART:20251102T070000
END:STANDARD
END:VTIMEZONE
BEGIN:VEVENT
DTSTART;TZID=America/Chicago:20230914T160000
DTEND;TZID=America/Chicago:20230914T170000
DTSTAMP:20260421T083115
CREATED:20221129T181801Z
LAST-MODIFIED:20230913T171713Z
UID:13911-1694707200-1694710800@barringtonhills-il.gov
SUMMARY:Roads & Bridges Meeting - Cancelled
DESCRIPTION:The agenda will be posted at least 48 hours before the event.
URL:https://barringtonhills-il.gov/event/roads-bridges-meeting-2023-09-21/
LOCATION:Village Hall\, 112 Algonquin Rd\, Barrington Hills\, IL\, 60010-5199
CATEGORIES:Roads & Bridges Committee
GEO:42.113822;-88.1818499
X-APPLE-STRUCTURED-LOCATION;VALUE=URI;X-ADDRESS=Village Hall 112 Algonquin Rd Barrington Hills IL 60010-5199;X-APPLE-RADIUS=500;X-TITLE=112 Algonquin Rd:geo:-88.1818499,42.113822
END:VEVENT
BEGIN:VEVENT
DTSTART;TZID=America/Chicago:20230917T120000
DTEND;TZID=America/Chicago:20230917T160000
DTSTAMP:20260421T083115
CREATED:20221129T184620Z
LAST-MODIFIED:20221129T184620Z
UID:13916-1694952000-1694966400@barringtonhills-il.gov
SUMMARY:Barrington Hills Fall Festival
DESCRIPTION:Details will be posted closer to the event. \n  \n**Information posted here may be subject to change without prior notice.
URL:https://barringtonhills-il.gov/event/barrington-hills-fall-festival-2/
LOCATION:Barrington Hills Park District Riding Center\, 361 Bateman Rd\, Barrington Hills\, IL\, United States
CATEGORIES:General Events
END:VEVENT
BEGIN:VEVENT
DTSTART;TZID=America/Chicago:20230918T183000
DTEND;TZID=America/Chicago:20230918T183000
DTSTAMP:20260421T083115
CREATED:20230914T203825Z
LAST-MODIFIED:20230914T203825Z
UID:15138-1695061800-1695061800@barringtonhills-il.gov
SUMMARY:Equestrian Commission Special Meeting - Cancelled
DESCRIPTION:
URL:https://barringtonhills-il.gov/event/equestrian-commission-special-meeting-cancelled/
LOCATION:Village Hall\, 112 Algonquin Rd\, Barrington Hills\, IL\, 60010-5199
CATEGORIES:Equestrian Commission
GEO:42.113822;-88.1818499
X-APPLE-STRUCTURED-LOCATION;VALUE=URI;X-ADDRESS=Village Hall 112 Algonquin Rd Barrington Hills IL 60010-5199;X-APPLE-RADIUS=500;X-TITLE=112 Algonquin Rd:geo:-88.1818499,42.113822
END:VEVENT
BEGIN:VEVENT
DTSTART;TZID=America/Chicago:20230919T183000
DTEND;TZID=America/Chicago:20230919T193000
DTSTAMP:20260421T083115
CREATED:20221129T162903Z
LAST-MODIFIED:20230913T171428Z
UID:13844-1695148200-1695151800@barringtonhills-il.gov
SUMMARY:Zoning Board of Appeals Meeting - Cancelled
DESCRIPTION:The agenda will be posted at least 48 hours before the event.
URL:https://barringtonhills-il.gov/event/zoning-board-of-appeals-meeting-5-2023-09-18/
LOCATION:Village Hall\, 112 Algonquin Rd\, Barrington Hills\, IL\, 60010-5199
CATEGORIES:Zoning Board of Appeals
GEO:42.113822;-88.1818499
X-APPLE-STRUCTURED-LOCATION;VALUE=URI;X-ADDRESS=Village Hall 112 Algonquin Rd Barrington Hills IL 60010-5199;X-APPLE-RADIUS=500;X-TITLE=112 Algonquin Rd:geo:-88.1818499,42.113822
END:VEVENT
BEGIN:VEVENT
DTSTART;TZID=America/Chicago:20230920T160000
DTEND;TZID=America/Chicago:20230920T160000
DTSTAMP:20260421T083115
CREATED:20230913T171951Z
LAST-MODIFIED:20230913T172808Z
UID:15137-1695225600-1695225600@barringtonhills-il.gov
SUMMARY:Roads & Bridges Special Meeting
DESCRIPTION:The agenda and meeting packet will be posted at least 48 hours before the meeting and viewable via the link Meeting Packets.
URL:https://barringtonhills-il.gov/event/roads-bridges-specia-meeting/
LOCATION:Village Hall\, 112 Algonquin Rd\, Barrington Hills\, IL\, 60010-5199
CATEGORIES:Roads & Bridges Committee
GEO:42.113822;-88.1818499
X-APPLE-STRUCTURED-LOCATION;VALUE=URI;X-ADDRESS=Village Hall 112 Algonquin Rd Barrington Hills IL 60010-5199;X-APPLE-RADIUS=500;X-TITLE=112 Algonquin Rd:geo:-88.1818499,42.113822
END:VEVENT
BEGIN:VEVENT
DTSTART;VALUE=DATE:20231002
DTEND;VALUE=DATE:20231011
DTSTAMP:20260421T083115
CREATED:20230919T184637Z
LAST-MODIFIED:20230919T184637Z
UID:15164-1696204800-1696982399@barringtonhills-il.gov
SUMMARY:Purchase Well Water Testing Kits
DESCRIPTION:Pick up BACOG’s annual private well water testing kits at Village Hall between October 2nd through October 10th. \nPayment only in the following forms: \n\nExact cash of $16 or\nChecks payable to Lake County Health Department.\n\nSample Drop Off\nWednesday\, October 11\, 11 AM-6:30 PM\nBarrington Area Library\n505 N. Northwest Highway \nAvailable to residents of BACOG communities (Barrington Hills\, Barrington Township\, Deer Park\, Lake Barrington\, South Barrington and Tower Lakes ).
URL:https://barringtonhills-il.gov/event/purchase-well-water-testing-kits/
LOCATION:Village Hall\, 112 Algonquin Rd\, Barrington Hills\, IL\, 60010-5199
CATEGORIES:General Events
ATTACH;FMTTYPE=image/jpeg:https://barringtonhills-il.gov/wp-content/uploads/2023/09/BACOG-water-testing.jpg
GEO:42.113822;-88.1818499
X-APPLE-STRUCTURED-LOCATION;VALUE=URI;X-ADDRESS=Village Hall 112 Algonquin Rd Barrington Hills IL 60010-5199;X-APPLE-RADIUS=500;X-TITLE=112 Algonquin Rd:geo:-88.1818499,42.113822
END:VEVENT
BEGIN:VEVENT
DTSTART;TZID=America/Chicago:20231002T183000
DTEND;TZID=America/Chicago:20231002T193000
DTSTAMP:20260421T083115
CREATED:20221129T162953Z
LAST-MODIFIED:20230926T204628Z
UID:13852-1696271400-1696275000@barringtonhills-il.gov
SUMMARY:Plan Commission - Cancelled
DESCRIPTION:The agenda will be posted at least 48 hours before the event.
URL:https://barringtonhills-il.gov/event/plan-commission-12-2023-10-02/
LOCATION:Village Hall\, 112 Algonquin Rd\, Barrington Hills\, IL\, 60010-5199
CATEGORIES:Plan Commission
GEO:42.113822;-88.1818499
X-APPLE-STRUCTURED-LOCATION;VALUE=URI;X-ADDRESS=Village Hall 112 Algonquin Rd Barrington Hills IL 60010-5199;X-APPLE-RADIUS=500;X-TITLE=112 Algonquin Rd:geo:-88.1818499,42.113822
END:VEVENT
BEGIN:VEVENT
DTSTART;TZID=America/Chicago:20231011T110000
DTEND;TZID=America/Chicago:20231011T183000
DTSTAMP:20260421T083115
CREATED:20230711T180555Z
LAST-MODIFIED:20230711T180555Z
UID:14856-1697022000-1697049000@barringtonhills-il.gov
SUMMARY:BACOG Private Well Water Testing Event
DESCRIPTION:Purchase water testing kits from October 2 – 10 at Barrington Hills Village Hall during regular office hours.\n \nHouseholds with private wells are advised to test for bacteria and nitrates on an annual basis to detect these invisible\, odorless contaminants. Bacteria and nitrates can result from animal\, insect or human waste or fertilizers reaching the well water and can cause illness in humans.\n \nOn October 11\, residents may drop off their water sample kits at the BACOG Event at the Barrington Area Library anytime between the hours of 11:00am and 6:30pm. Participants will park in the Library lot and come into the building. \n \nAlthough primarily a drop-off event\, several Community Partners will be there with information and take-aways\, along with the Lake County Health Department Staff\, who will be available to residents for water testing questions. Test results will be emailed to homeowners within two weeks. Any homeowner with positive results for bacteria or elevated nitrate levels will be contacted within 48 hours by the Lake County Health Department.
URL:https://barringtonhills-il.gov/event/bacog-private-well-water-testing-event-2/
LOCATION:Barrington Area Library\, 505 N Northwest Hwy\, Barrington\, IL\, 60010\, United States
CATEGORIES:General Events
GEO:42.1593535;-88.1276169
X-APPLE-STRUCTURED-LOCATION;VALUE=URI;X-ADDRESS=Barrington Area Library 505 N Northwest Hwy Barrington IL 60010 United States;X-APPLE-RADIUS=500;X-TITLE=505 N Northwest Hwy:geo:-88.1276169,42.1593535
END:VEVENT
BEGIN:VEVENT
DTSTART;TZID=America/Chicago:20231012T160000
DTEND;TZID=America/Chicago:20231012T170000
DTSTAMP:20260421T083115
CREATED:20221129T181801Z
LAST-MODIFIED:20231004T165549Z
UID:13912-1697126400-1697130000@barringtonhills-il.gov
SUMMARY:Roads & Bridges Meeting - Cancelled
DESCRIPTION:The agenda will be posted at least 48 hours before the event.
URL:https://barringtonhills-il.gov/event/roads-bridges-meeting-2023-10-19/
LOCATION:Village Hall\, 112 Algonquin Rd\, Barrington Hills\, IL\, 60010-5199
CATEGORIES:Roads & Bridges Committee
GEO:42.113822;-88.1818499
X-APPLE-STRUCTURED-LOCATION;VALUE=URI;X-ADDRESS=Village Hall 112 Algonquin Rd Barrington Hills IL 60010-5199;X-APPLE-RADIUS=500;X-TITLE=112 Algonquin Rd:geo:-88.1818499,42.113822
END:VEVENT
BEGIN:VEVENT
DTSTART;TZID=America/Chicago:20231016T183000
DTEND;TZID=America/Chicago:20231016T193000
DTSTAMP:20260421T083115
CREATED:20221129T162904Z
LAST-MODIFIED:20230919T213426Z
UID:13845-1697481000-1697484600@barringtonhills-il.gov
SUMMARY:Zoning Board of Appeals Meeting - Cancelled
DESCRIPTION:The agenda will be posted at least 48 hours before the event.
URL:https://barringtonhills-il.gov/event/zoning-board-of-appeals-meeting-5-2023-10-16/
LOCATION:Village Hall\, 112 Algonquin Rd\, Barrington Hills\, IL\, 60010-5199
CATEGORIES:Zoning Board of Appeals
GEO:42.113822;-88.1818499
X-APPLE-STRUCTURED-LOCATION;VALUE=URI;X-ADDRESS=Village Hall 112 Algonquin Rd Barrington Hills IL 60010-5199;X-APPLE-RADIUS=500;X-TITLE=112 Algonquin Rd:geo:-88.1818499,42.113822
END:VEVENT
BEGIN:VEVENT
DTSTART;TZID=America/Chicago:20231024T183000
DTEND;TZID=America/Chicago:20231024T183000
DTSTAMP:20260421T083115
CREATED:20230929T190705Z
LAST-MODIFIED:20230929T190705Z
UID:15203-1698172200-1698172200@barringtonhills-il.gov
SUMMARY:ZBA Special Meeting
DESCRIPTION:The agenda and meeting packet will be posted at least 48 hours before the event and viewable via the link Meeting Packets.
URL:https://barringtonhills-il.gov/event/zba-special-meeting-4/
LOCATION:Village Hall\, 112 Algonquin Rd\, Barrington Hills\, IL\, 60010-5199
CATEGORIES:Zoning Board of Appeals
GEO:42.113822;-88.1818499
X-APPLE-STRUCTURED-LOCATION;VALUE=URI;X-ADDRESS=Village Hall 112 Algonquin Rd Barrington Hills IL 60010-5199;X-APPLE-RADIUS=500;X-TITLE=112 Algonquin Rd:geo:-88.1818499,42.113822
END:VEVENT
BEGIN:VEVENT
DTSTART;TZID=America/Chicago:20231027T100000
DTEND;TZID=America/Chicago:20231027T160000
DTSTAMP:20260421T083115
CREATED:20230830T183451Z
LAST-MODIFIED:20230830T184653Z
UID:14970-1698400800-1698422400@barringtonhills-il.gov
SUMMARY:Sight & Sound Bus
DESCRIPTION:The Lions of Illinois Foundation Mobile Screening Unit Program has been traveling throughout Illinois screening for hearing loss and Retinal eye diseases.  \nBarrington Lions Club and Barrington Township have teamed up to offer this event to residents!  \nPresent the appropriate form(s) upon arrival: Hearing Form and/or Eye Screening Form.  \n At this event\, old tennis shoes for recycling will be accepted.  \n  \n INFORMATIONAL  FLYERS 
URL:https://barringtonhills-il.gov/event/sight-sound-bus/
LOCATION:Village Hall\, 112 Algonquin Rd\, Barrington Hills\, IL\, 60010-5199
CATEGORIES:General Events
ATTACH;FMTTYPE=image/jpeg:https://barringtonhills-il.gov/wp-content/uploads/2023/08/site-and-sound.jpg
GEO:42.113822;-88.1818499
X-APPLE-STRUCTURED-LOCATION;VALUE=URI;X-ADDRESS=Village Hall 112 Algonquin Rd Barrington Hills IL 60010-5199;X-APPLE-RADIUS=500;X-TITLE=112 Algonquin Rd:geo:-88.1818499,42.113822
END:VEVENT
BEGIN:VEVENT
DTSTART;TZID=America/Chicago:20231103T120000
DTEND;TZID=America/Chicago:20231103T120000
DTSTAMP:20260421T083115
CREATED:20231027T211652Z
LAST-MODIFIED:20231101T165533Z
UID:15509-1699012800-1699012800@barringtonhills-il.gov
SUMMARY:Finance & Insurance Committees Joint Meeting
DESCRIPTION:The Agenda will be posted at least 48 hours before the event and viewable via the link arringtonhills-il.gov/meeting-packets/.
URL:https://barringtonhills-il.gov/event/finance-committee-meeting-19/
LOCATION:Village Hall\, 112 Algonquin Rd\, Barrington Hills\, IL\, 60010-5199
CATEGORIES:Finance Committee,Insurance Committee
GEO:42.113822;-88.1818499
X-APPLE-STRUCTURED-LOCATION;VALUE=URI;X-ADDRESS=Village Hall 112 Algonquin Rd Barrington Hills IL 60010-5199;X-APPLE-RADIUS=500;X-TITLE=112 Algonquin Rd:geo:-88.1818499,42.113822
END:VEVENT
BEGIN:VEVENT
DTSTART;TZID=America/Chicago:20231107T183000
DTEND;TZID=America/Chicago:20231107T193000
DTSTAMP:20260421T083115
CREATED:20221221T183442Z
LAST-MODIFIED:20231031T143735Z
UID:13975-1699381800-1699385400@barringtonhills-il.gov
SUMMARY:Board of Health Meeting - Cancelled
DESCRIPTION:The agenda will be posted at least 48 hours before the event.
URL:https://barringtonhills-il.gov/event/board-of-health-meeting-8/
LOCATION:Village Hall\, 112 Algonquin Rd\, Barrington Hills\, IL\, 60010-5199
CATEGORIES:Board of Health
GEO:42.113822;-88.1818499
X-APPLE-STRUCTURED-LOCATION;VALUE=URI;X-ADDRESS=Village Hall 112 Algonquin Rd Barrington Hills IL 60010-5199;X-APPLE-RADIUS=500;X-TITLE=112 Algonquin Rd:geo:-88.1818499,42.113822
END:VEVENT
BEGIN:VEVENT
DTSTART;VALUE=DATE:20231110
DTEND;VALUE=DATE:20231111
DTSTAMP:20260421T083115
CREATED:20221220T225934Z
LAST-MODIFIED:20221220T225934Z
UID:13966-1699574400-1699660799@barringtonhills-il.gov
SUMMARY:VILLAGE HALL CLOSED - Veterans' Day Observed
DESCRIPTION:
URL:https://barringtonhills-il.gov/event/village-hall-closed-veterans-day-observed-2/
LOCATION:Village Hall\, 112 Algonquin Rd\, Barrington Hills\, IL\, 60010-5199
CATEGORIES:General Events
GEO:42.113822;-88.1818499
X-APPLE-STRUCTURED-LOCATION;VALUE=URI;X-ADDRESS=Village Hall 112 Algonquin Rd Barrington Hills IL 60010-5199;X-APPLE-RADIUS=500;X-TITLE=112 Algonquin Rd:geo:-88.1818499,42.113822
END:VEVENT
BEGIN:VEVENT
DTSTART;VALUE=DATE:20231111
DTEND;VALUE=DATE:20231112
DTSTAMP:20260421T083115
CREATED:20221220T230003Z
LAST-MODIFIED:20221220T230003Z
UID:13967-1699660800-1699747199@barringtonhills-il.gov
SUMMARY:Veterans' Day
DESCRIPTION:
URL:https://barringtonhills-il.gov/event/veterans-day-2/
LOCATION:Village Hall\, 112 Algonquin Rd\, Barrington Hills\, IL\, 60010-5199
CATEGORIES:General Events
GEO:42.113822;-88.1818499
X-APPLE-STRUCTURED-LOCATION;VALUE=URI;X-ADDRESS=Village Hall 112 Algonquin Rd Barrington Hills IL 60010-5199;X-APPLE-RADIUS=500;X-TITLE=112 Algonquin Rd:geo:-88.1818499,42.113822
END:VEVENT
BEGIN:VEVENT
DTSTART;TZID=America/Chicago:20231113T150000
DTEND;TZID=America/Chicago:20231113T150000
DTSTAMP:20260421T083115
CREATED:20231030T212106Z
LAST-MODIFIED:20231030T212106Z
UID:15514-1699887600-1699887600@barringtonhills-il.gov
SUMMARY:Roads & Bridges Special Meeting
DESCRIPTION:The agenda and meeting packet will be posted at least 48 hours before the event and viewable at barringtonhills-il.gov/meeting-packets/ 
URL:https://barringtonhills-il.gov/event/roads-bridges-special-meeting-10/
LOCATION:Village Hall\, 112 Algonquin Rd\, Barrington Hills\, IL\, 60010-5199
CATEGORIES:Roads & Bridges Committee
GEO:42.113822;-88.1818499
X-APPLE-STRUCTURED-LOCATION;VALUE=URI;X-ADDRESS=Village Hall 112 Algonquin Rd Barrington Hills IL 60010-5199;X-APPLE-RADIUS=500;X-TITLE=112 Algonquin Rd:geo:-88.1818499,42.113822
END:VEVENT
BEGIN:VEVENT
DTSTART;TZID=America/Chicago:20231113T183000
DTEND;TZID=America/Chicago:20231113T193000
DTSTAMP:20260421T083115
CREATED:20221129T162905Z
LAST-MODIFIED:20231103T203006Z
UID:13846-1699900200-1699903800@barringtonhills-il.gov
SUMMARY:Zoning Board of Appeals Meeting - Cancelled
DESCRIPTION:The agenda will be posted at least 48 hours before the event.
URL:https://barringtonhills-il.gov/event/zoning-board-of-appeals-meeting-5-2023-11-20/
LOCATION:Village Hall\, 112 Algonquin Rd\, Barrington Hills\, IL\, 60010-5199
CATEGORIES:Zoning Board of Appeals
GEO:42.113822;-88.1818499
X-APPLE-STRUCTURED-LOCATION;VALUE=URI;X-ADDRESS=Village Hall 112 Algonquin Rd Barrington Hills IL 60010-5199;X-APPLE-RADIUS=500;X-TITLE=112 Algonquin Rd:geo:-88.1818499,42.113822
END:VEVENT
BEGIN:VEVENT
DTSTART;TZID=America/Chicago:20231114T183000
DTEND;TZID=America/Chicago:20231114T183000
DTSTAMP:20260421T083115
CREATED:20231103T203230Z
LAST-MODIFIED:20231103T204128Z
UID:15521-1699986600-1699986600@barringtonhills-il.gov
SUMMARY:Zoning Board of Appeals Special Meeting
DESCRIPTION:The agenda will be posted at least 48 hours before the event and viewable via the link Meeting Packets.
URL:https://barringtonhills-il.gov/event/zoning-board-of-appeals-special-meeting-4/
LOCATION:Village Hall\, 112 Algonquin Rd\, Barrington Hills\, IL\, 60010-5199
CATEGORIES:Zoning Board of Appeals
GEO:42.113822;-88.1818499
X-APPLE-STRUCTURED-LOCATION;VALUE=URI;X-ADDRESS=Village Hall 112 Algonquin Rd Barrington Hills IL 60010-5199;X-APPLE-RADIUS=500;X-TITLE=112 Algonquin Rd:geo:-88.1818499,42.113822
END:VEVENT
BEGIN:VEVENT
DTSTART;TZID=America/Chicago:20231116T183000
DTEND;TZID=America/Chicago:20231116T193000
DTSTAMP:20260421T083115
CREATED:20221129T162753Z
LAST-MODIFIED:20221221T183638Z
UID:13854-1700159400-1700163000@barringtonhills-il.gov
SUMMARY:Board of Trustees Meeting
DESCRIPTION:The agenda will be posted at least 48 hours before the event.
URL:https://barringtonhills-il.gov/event/board-of-trustees-meeting-19-2023-11-27/
LOCATION:Village Hall\, 112 Algonquin Rd\, Barrington Hills\, IL\, 60010-5199
CATEGORIES:Board of Trustees
GEO:42.113822;-88.1818499
X-APPLE-STRUCTURED-LOCATION;VALUE=URI;X-ADDRESS=Village Hall 112 Algonquin Rd Barrington Hills IL 60010-5199;X-APPLE-RADIUS=500;X-TITLE=112 Algonquin Rd:geo:-88.1818499,42.113822
END:VEVENT
BEGIN:VEVENT
DTSTART;TZID=America/Chicago:20231204T183000
DTEND;TZID=America/Chicago:20231204T190000
DTSTAMP:20260421T083115
CREATED:20221129T172300Z
LAST-MODIFIED:20231128T173937Z
UID:13903-1701714600-1701716400@barringtonhills-il.gov
SUMMARY:Equestrian Commission Meeting - Cancelled
DESCRIPTION:The agenda will be posted at least 48 hours before the event.
URL:https://barringtonhills-il.gov/event/equestrian-commission-meeting-7-2023-12-04/
LOCATION:Village Hall\, 112 Algonquin Rd\, Barrington Hills\, IL\, 60010-5199
CATEGORIES:Equestrian Commission
GEO:42.113822;-88.1818499
X-APPLE-STRUCTURED-LOCATION;VALUE=URI;X-ADDRESS=Village Hall 112 Algonquin Rd Barrington Hills IL 60010-5199;X-APPLE-RADIUS=500;X-TITLE=112 Algonquin Rd:geo:-88.1818499,42.113822
END:VEVENT
BEGIN:VEVENT
DTSTART;TZID=America/Chicago:20231211T183000
DTEND;TZID=America/Chicago:20231211T193000
DTSTAMP:20260421T083115
CREATED:20221129T162905Z
LAST-MODIFIED:20221221T183801Z
UID:13876-1702319400-1702323000@barringtonhills-il.gov
SUMMARY:Zoning Board of Appeals Meeting
DESCRIPTION:The agenda will be posted at least 48 hours before the event.
URL:https://barringtonhills-il.gov/event/zoning-board-of-appeals-meeting-5-2023-12-18/
LOCATION:Village Hall\, 112 Algonquin Rd\, Barrington Hills\, IL\, 60010-5199
CATEGORIES:Zoning Board of Appeals
GEO:42.113822;-88.1818499
X-APPLE-STRUCTURED-LOCATION;VALUE=URI;X-ADDRESS=Village Hall 112 Algonquin Rd Barrington Hills IL 60010-5199;X-APPLE-RADIUS=500;X-TITLE=112 Algonquin Rd:geo:-88.1818499,42.113822
END:VEVENT
BEGIN:VEVENT
DTSTART;TZID=America/Chicago:20231213T190000
DTEND;TZID=America/Chicago:20231213T190000
DTSTAMP:20260421T083115
CREATED:20231116T184713Z
LAST-MODIFIED:20231120T235534Z
UID:15533-1702494000-1702494000@barringtonhills-il.gov
SUMMARY:Cancelled-Master Plan Presentation for Horozin Farm & Spring Creek
DESCRIPTION:The Forest Preserves District of Cook County (FPDCC) will be presenting its Master Plan for its Horizon Farm and Spring Creek Preserves at the December Barrington Hills Park District Board Meeting\, which has been moved to the Barrington White House.
URL:https://barringtonhills-il.gov/event/master-plan-presentation-for-horozin-farm-spring-creek/
LOCATION:Barrington White House\, 145 W. Main Street\, Barrington\, IL\, 60010\, United States
CATEGORIES:General Events
GEO:42.153907;-88.1380984
X-APPLE-STRUCTURED-LOCATION;VALUE=URI;X-ADDRESS=Barrington White House 145 W. Main Street Barrington IL 60010 United States;X-APPLE-RADIUS=500;X-TITLE=145 W. Main Street:geo:-88.1380984,42.153907
END:VEVENT
BEGIN:VEVENT
DTSTART;TZID=America/Chicago:20231219T183000
DTEND;TZID=America/Chicago:20231219T193000
DTSTAMP:20260421T083115
CREATED:20221129T162758Z
LAST-MODIFIED:20221221T183835Z
UID:13893-1703010600-1703014200@barringtonhills-il.gov
SUMMARY:Board of Trustees Meeting
DESCRIPTION:The agenda will be posted at least 48 hours before the event.
URL:https://barringtonhills-il.gov/event/board-of-trustees-meeting-19-2023-12-25/
LOCATION:Village Hall\, 112 Algonquin Rd\, Barrington Hills\, IL\, 60010-5199
CATEGORIES:Board of Trustees
GEO:42.113822;-88.1818499
X-APPLE-STRUCTURED-LOCATION;VALUE=URI;X-ADDRESS=Village Hall 112 Algonquin Rd Barrington Hills IL 60010-5199;X-APPLE-RADIUS=500;X-TITLE=112 Algonquin Rd:geo:-88.1818499,42.113822
END:VEVENT
BEGIN:VEVENT
DTSTART;VALUE=DATE:20231224
DTEND;VALUE=DATE:20231225
DTSTAMP:20260421T083115
CREATED:20190320T202031Z
LAST-MODIFIED:20221220T230117Z
UID:13891-1703376000-1703462399@barringtonhills-il.gov
SUMMARY:Christmas Eve
DESCRIPTION:For Emergencies\, dial 911.  For Non-Emergencies\, dial QuadCom Police Dispatch at 847-428-8784.
URL:https://barringtonhills-il.gov/event/christmas-eve-village-offices-closed-2023-12-24/
LOCATION:Village Hall\, 112 Algonquin Rd\, Barrington Hills\, IL\, 60010-5199
CATEGORIES:General Events
GEO:42.113822;-88.1818499
X-APPLE-STRUCTURED-LOCATION;VALUE=URI;X-ADDRESS=Village Hall 112 Algonquin Rd Barrington Hills IL 60010-5199;X-APPLE-RADIUS=500;X-TITLE=112 Algonquin Rd:geo:-88.1818499,42.113822
END:VEVENT
BEGIN:VEVENT
DTSTART;VALUE=DATE:20231226
DTEND;VALUE=DATE:20231227
DTSTAMP:20260421T083115
CREATED:20221220T230150Z
LAST-MODIFIED:20221220T230150Z
UID:13968-1703548800-1703635199@barringtonhills-il.gov
SUMMARY:VILLAGE HALL CLOSED - Christmas Eve Observed
DESCRIPTION:
URL:https://barringtonhills-il.gov/event/village-hall-closed-christmas-eve-observed-3/
LOCATION:Village Hall\, 112 Algonquin Rd\, Barrington Hills\, IL\, 60010-5199
CATEGORIES:General Events
GEO:42.113822;-88.1818499
X-APPLE-STRUCTURED-LOCATION;VALUE=URI;X-ADDRESS=Village Hall 112 Algonquin Rd Barrington Hills IL 60010-5199;X-APPLE-RADIUS=500;X-TITLE=112 Algonquin Rd:geo:-88.1818499,42.113822
END:VEVENT
BEGIN:VEVENT
DTSTART;TZID=America/Chicago:20240103T120000
DTEND;TZID=America/Chicago:20240103T130000
DTSTAMP:20260421T083115
CREATED:20231229T214555Z
LAST-MODIFIED:20231229T214555Z
UID:15702-1704283200-1704286800@barringtonhills-il.gov
SUMMARY:Board of Trustees - Special Meeting
DESCRIPTION:The agenda will be posted at least 48 hours before the event and available via the link Meeting Packets.
URL:https://barringtonhills-il.gov/event/board-of-trustees-special-meeting-4/
LOCATION:Village Hall\, 112 Algonquin Rd\, Barrington Hills\, IL\, 60010-5199
CATEGORIES:Board of Trustees
GEO:42.113822;-88.1818499
X-APPLE-STRUCTURED-LOCATION;VALUE=URI;X-ADDRESS=Village Hall 112 Algonquin Rd Barrington Hills IL 60010-5199;X-APPLE-RADIUS=500;X-TITLE=112 Algonquin Rd:geo:-88.1818499,42.113822
END:VEVENT
BEGIN:VEVENT
DTSTART;TZID=America/Chicago:20240108T183000
DTEND;TZID=America/Chicago:20240108T183000
DTSTAMP:20260421T083115
CREATED:20231121T201208Z
LAST-MODIFIED:20240103T170533Z
UID:15539-1704738600-1704738600@barringtonhills-il.gov
SUMMARY:Plan Commission-Cancelled
DESCRIPTION:The agenda will be posted at least 48 hours before the event and available via the link Meeting Packets.
URL:https://barringtonhills-il.gov/event/plan-commission-13/
LOCATION:Village Hall\, 112 Algonquin Rd\, Barrington Hills\, IL\, 60010-5199
CATEGORIES:Plan Commission
GEO:42.113822;-88.1818499
X-APPLE-STRUCTURED-LOCATION;VALUE=URI;X-ADDRESS=Village Hall 112 Algonquin Rd Barrington Hills IL 60010-5199;X-APPLE-RADIUS=500;X-TITLE=112 Algonquin Rd:geo:-88.1818499,42.113822
END:VEVENT
BEGIN:VEVENT
DTSTART;TZID=America/Chicago:20240113T093000
DTEND;TZID=America/Chicago:20240113T113000
DTSTAMP:20260421T083115
CREATED:20240105T221855Z
LAST-MODIFIED:20240112T185712Z
UID:15720-1705138200-1705145400@barringtonhills-il.gov
SUMMARY:*UPDATE: Now Only Zoom--Hill 'N Dale Preserve Restoration Plans
DESCRIPTION:Due to inclement weather\, this presentation will only be via Zoom and not in person.  \nRegistration required.  Click here. \n\nGuest Speaker: Jim Anderson\, Vice President\, Citizens for Conservation \nDate: Saturday\, January 13\, 2023 \nTime: 9:30 a.m. coffee\, conversation\, displays\, handouts; 10:00-11:30 a.m. program \nLocation: Barrington Village Hall\, 200 S. Hough Street; free parking behind building \nWhile CFC’s acquisition of 246 acres along Spring Creek saved the former horse farm from development\, the hard work is just beginning. Learn about the process to restore the critical wetland\, sedge meadow\, wet prairie\, prairie\, and savanna communities. \nJim Anderson is Vice President of Citizens for Conservation’s Board of Directors and an active restoration volunteer. He is former Director of Natural Resources for Lake County Forest Preserves. Jim also serves on the Steering Committee of Chicago Wilderness Alliance. \nCost: CFC members attend free as a benefit of membership. Program fee is $10 for non-members. \nRSVP is required. 
URL:https://barringtonhills-il.gov/event/hill-n-dale-preserve-retoration-plans/
LOCATION:Barrington Village Hall\, 200 S. Hough St.\, Barrington
CATEGORIES:General Events
ORGANIZER;CN="Citizens for Conservation":MAILTO:cfc@citizensforconservation.org
GEO:42.153073;-88.137398
END:VEVENT
BEGIN:VEVENT
DTSTART;VALUE=DATE:20240115
DTEND;VALUE=DATE:20240116
DTSTAMP:20260421T083115
CREATED:20161227T205141Z
LAST-MODIFIED:20240110T160526Z
UID:13957-1705276800-1705363199@barringtonhills-il.gov
SUMMARY:VILLAGE HALL CLOSED - Martin Luther King Jr. Day
DESCRIPTION:
URL:https://barringtonhills-il.gov/event/village-hall-closed-martin-luther-king-jr-day-2022-01-16-2024-01-17/
CATEGORIES:General Events
END:VEVENT
END:VCALENDAR